{"text_format":"2","workbook":"xlsx","n_sheets":7,"sheets":["Results Overview","Y34 Field","Y34Girls Field","Y34 Track","Y56 Field","Y56 Track","Y56Girls Field"],"not_rendered":{"charts":0,"images":0,"macros":0,"external_links":0,"defined_names":1,"comments":0,"pivot_tables":0},"unopened":[],"bounds":{"document_bytes":16777216,"sheet_cells":100000,"run_cost":"one","rows_first":2000,"rows_last":500,"rows_between":2000,"halvings":0,"cell_chars":16384,"cell_head_chars":4096},"cells_cut":0,"cells_raw":0,"read":"whole","date_system":"1900"}

{"sheet":"Results Overview","index":0,"n_rows":25,"n_cols":5,"rows_kept":25,"cut":false,"hidden":false,"merged":[]}
["Hull School Games SportsHall Athletics Qualifier 3 Results"]
[]
["Year 3/4 Results"]
["School","Field","Track ","Total","Position"]
["Christopher Pickering",{"$f":"'Y34 Field'!X7+'Y34 Field'!X43","v":287},{"$f":"'Y34 Track'!O5+'Y34 Track'!O20","v":126},{"$f":"B5+C5","v":413},1]
["Ings",{"$f":"'Y34 Field'!X16+'Y34 Field'!X52","v":265},{"$f":"'Y34 Track'!O8+'Y34 Track'!O23","v":204},{"$f":"B6+C6","v":469},2]
["Sidmouth",{"$f":"'Y34 Field'!X25+'Y34 Field'!X61","v":263},{"$f":"'Y34 Track'!O11+'Y34 Track'!O26","v":252},{"$f":"B7+C7","v":515},3]
["Neasden",{"$f":"'Y34 Field'!X22+'Y34 Field'!X58","v":318},{"$f":"'Y34 Track'!O10+'Y34 Track'!O25","v":198},{"$f":"B8+C8","v":516},4]
["Francis Aksew",{"$f":"'Y34 Field'!X13+'Y34 Field'!X49","v":376},{"$f":"'Y34 Track'!O7+'Y34 Track'!O22","v":198},{"$f":"B9+C9","v":574},5]
["Woodlands",{"$f":"'Y34 Field'!X34+'Y34 Field'!X70","v":357},{"$f":"'Y34 Track'!O14+'Y34 Track'!O29","v":282},{"$f":"B10+C10","v":639},6]
["Mersey Academy",{"$f":"'Y34 Field'!X19+'Y34 Field'!X55","v":412},{"$f":"'Y34 Track'!O9+'Y34 Track'!O24","v":318},{"$f":"B11+C11","v":730},7]
["Clifton Primary",{"$f":"'Y34 Field'!X10+'Y34 Field'!X46","v":480},{"$f":"'Y34 Track'!O6+'Y34 Track'!O21","v":204},{"$f":"B12+C12","v":684},8]
["St Charles",{"$f":"'Y34 Field'!X28+'Y34 Field'!X64","v":415},{"$f":"'Y34 Track'!O12+'Y34 Track'!O27","v":366},{"$f":"B13+C13","v":781},9]
["St Nicholas",{"$f":"'Y34 Field'!X31+'Y34 Field'!X67","v":454},{"$f":"'Y34 Track'!O13+'Y34 Track'!O28","v":378},{"$f":"B14+C14","v":832},10]
[]
["Year 5/6 Results"]
["School","Field","Track ","Total","Position"]
["Christopher Pickering",{"$f":"'Y56 Field'!X7+'Y56 Field'!X37","v":235},{"$f":"'Y56 Track'!O5+'Y56 Track'!O18","v":156},{"$f":"B18+C18","v":391},1]
["Sidmouth",{"$f":"'Y56 Field'!X19+'Y56 Field'!X49","v":277},{"$f":"'Y56 Track'!O9+'Y56 Track'!O22","v":126},{"$f":"B19+C19","v":403},2]
["Neasden",{"$f":"'Y56 Field'!X16+'Y56 Field'!X46","v":274},{"$f":"'Y56 Track'!O8+'Y56 Track'!O21","v":180},{"$f":"B20+C20","v":454},3]
["Ings",{"$f":"'Y56 Field'!X13+'Y56 Field'!X43","v":316},{"$f":"'Y56 Track'!O7+'Y56 Track'!O20","v":138},{"$f":"B21+C21","v":454},4]
["St Charles",{"$f":"'Y56 Field'!X22+'Y56 Field'!X52","v":352},{"$f":"'Y56 Track'!O10+'Y56 Track'!O23","v":210},{"$f":"B22+C22","v":562},5]
["Woodlands",{"$f":"'Y56 Field'!X28+'Y56 Field'!X58","v":320},{"$f":"'Y56 Track'!O12+'Y56 Track'!O25","v":276},{"$f":"B23+C23","v":596},6]
["Clifton Primary",{"$f":"'Y56 Field'!X10+'Y56 Field'!X40","v":381},{"$f":"'Y56 Track'!O6+'Y56 Track'!O19","v":258},{"$f":"B24+C24","v":639},7]
["St Nicholas",{"$f":"'Y56 Field'!X25+'Y56 Field'!X55","v":439},{"$f":"'Y56 Track'!O11+'Y56 Track'!O24","v":258},{"$f":"B25+C25","v":697},8]

{"sheet":"Y34 Field","index":1,"n_rows":70,"n_cols":24,"rows_kept":70,"cut":false,"hidden":false,"merged":[[38,1,38,4],[38,5,38,8],[38,9,38,12],[38,13,38,16],[38,17,38,20],[2,1,2,4],[2,5,2,8],[2,9,2,12],[2,13,2,16],[2,17,2,20]]}
["Hull School Games SportsHall Athletics Qualifier 3 Results"]
["Year 3/4 Boys Field"]
[null,"Javelin",null,null,null,"Standing Long Jump",null,null,null,"5 Strides",null,null,null,"Chest Push",null,null,null,"Speed Bouce",{"$nulls":4},"School Total Points"]
["School","Average","Attempt 1","Attempt 2","Score","Average","Attempt 1","Attempt 2","Score","Average","Attempt 1","Attempt 2","Score","Average","Attempt 1","Attempt 2","Score","Average","Attempt 1","Attempt 2","Score"]
["Christopher Pickering",{"$f":"AVERAGE(C5,D5)","v":10.364999999999998},10.45,10.28,6,{"$f":"AVERAGE(G5,H5)","v":1.675},1.6,1.75,4,{"$f":"AVERAGE(K5,L5)","v":5.7650000000000006},6,5.53,8,{"$f":"AVERAGE(O5,P5)","v":6.5500000000000007},6.4,6.7,1,{"$f":"AVERAGE(S5,T5)","v":27.5},36,19,6,null,{"$f":"SUM(E5,I5,M5,Q5,U5)","v":25}]
["Christopher Pickering",{"$f":"AVERAGE(C6,D6)","v":8.9549999999999983},8.7899999999999991,9.1199999999999992,10,{"$f":"AVERAGE(G6,H6)","v":1.65},1.8,1.5,5,{"$f":"AVERAGE(K6,L6)","v":5},4.8,5.2,19,{"$f":"AVERAGE(O6,P6)","v":5.9},6.7,5.0999999999999996,4,{"$f":"AVERAGE(S6,T6)","v":27},27,27,7,null,{"$f":"SUM(E6,I6,M6,Q6,U6)","v":45}]
["Christopher Pickering",{"$f":"AVERAGE(C7,D7)","v":7.3450000000000006},8.33,6.36,16,{"$f":"AVERAGE(G7,H7)","v":1.5249999999999999},1.75,1.3,8,{"$f":"AVERAGE(K7,L7)","v":4.6500000000000004},4.7,4.5999999999999996,21,{"$f":"AVERAGE(O7,P7)","v":5.65},5.6,5.7,5,{"$f":"AVERAGE(S7,T7)","v":26},28,24,9,null,59,{"$f":"SUM(W5:W7)","v":129}]
["Clifton Primary",{"$f":"AVERAGE(C8,D8)","v":7.6999999999999993},7.8,7.6,13,{"$f":"AVERAGE(G8,H8)","v":1.55},1.5,1.6,7,{"$f":"AVERAGE(K8,L8)","v":5.5},5.6,5.4,11,{"$f":"AVERAGE(O8,P8)","v":3.5750000000000002},3.9,3.25,20,{"$f":"AVERAGE(S8,T8)","v":34},35,33,3,null,54]
["Clifton Primary",{"$f":"AVERAGE(C9,D9)","v":5.8699999999999992},6.52,5.22,23,{"$f":"AVERAGE(G9,H9)","v":1.55},1.6,1.5,7,{"$f":"AVERAGE(K9,L9)","v":5.2850000000000001},5.64,4.93,15,{"$f":"AVERAGE(O9,P9)","v":3.3499999999999996},3.3,3.4,22,{"$f":"AVERAGE(S9,T9)","v":24.5},27,22,11,null,78]
["Clifton Primary",{"$f":"AVERAGE(C10,D10)","v":2.16},2.2000000000000002,2.12,30,{"$f":"AVERAGE(G10,H10)","v":1.425},1.5,1.35,11,{"$f":"AVERAGE(K10,L10)","v":5.28},5.24,5.32,16,{"$f":"AVERAGE(O10,P10)","v":3.2},3.1,3.3,24,{"$f":"AVERAGE(S10,T10)","v":20.5},23,18,16,null,97,{"$f":"SUM(W8:W10)","v":229}]
["Francis Askew",{"$f":"AVERAGE(C11,D11)","v":7.0250000000000004},7.53,6.52,17,{"$f":"AVERAGE(G11,H11)","v":1.75},1.7,1.8,2,{"$f":"AVERAGE(K11,L11)","v":5.35},5.4,5.3,12,{"$f":"AVERAGE(O11,P11)","v":4.9000000000000004},4.7,5.0999999999999996,10,{"$f":"AVERAGE(S11,T11)","v":38.5},42,35,1,null,42]
["Francis Askew",{"$f":"AVERAGE(C12,D12)","v":6.5649999999999995},6.11,7.02,20,{"$f":"AVERAGE(G12,H12)","v":1.45},1.4,1.5,10,{"$f":"AVERAGE(K12,L12)","v":5.34},5.4,5.28,13,{"$f":"AVERAGE(O12,P12)","v":4.75},4.5,5,11,{"$f":"AVERAGE(S12,T12)","v":25.5},27,24,10,null,64]
["Francis Askew",{"$f":"AVERAGE(C13,D13)","v":6.4749999999999996},6.2,6.75,21,{"$f":"AVERAGE(G13,H13)","v":1.2749999999999999},1.3,1.25,15,{"$f":"AVERAGE(K13,L13)","v":4.0600000000000005},4.12,4,26,{"$f":"AVERAGE(O13,P13)","v":3.75},3.7,3.8,17,{"$f":"AVERAGE(S13,T13)","v":15.5},17,14,18,null,97,{"$f":"SUM(W11:W13)","v":203}]
["Ings Primary",{"$f":"AVERAGE(C14,D14)","v":11.18},13.53,8.83,3,{"$f":"AVERAGE(G14,H14)","v":1.65},1.65,1.65,5,{"$f":"AVERAGE(K14,L14)","v":5.91},6.7,5.12,5,{"$f":"AVERAGE(O14,P14)","v":5.2},4.9000000000000004,5.5,8,{"$f":"AVERAGE(S14,T14)","v":25.5},29,22,10,null,31]
["Ings Primary",{"$f":"AVERAGE(C15,D15)","v":10.08},5.1100000000000003,15.05,7,{"$f":"AVERAGE(G15,H15)","v":1.5249999999999999},1.5,1.55,8,{"$f":"AVERAGE(K15,L15)","v":5.8100000000000005},6.05,5.57,6,{"$f":"AVERAGE(O15,P15)","v":5.1999999999999993},5.0999999999999996,5.3,8,{"$f":"AVERAGE(S15,T15)","v":23.5},27,20,12,null,41]
["Ings Primary",{"$f":"AVERAGE(C16,D16)","v":9.85},10.67,9.0299999999999994,8,{"$f":"AVERAGE(G16,H16)","v":1.5},1.5,1.5,9,{"$f":"AVERAGE(K16,L16)","v":5.7750000000000004},6.3,5.25,7,{"$f":"AVERAGE(O16,P16)","v":4.4000000000000004},4.3,4.5,13,{"$f":"AVERAGE(S16,T16)","v":21.5},22,21,14,null,51,{"$f":"SUM(W14:W16)","v":123}]
["Mersey Primary",{"$f":"AVERAGE(C17,D17)","v":7.7349999999999994},7.71,7.76,12,{"$f":"AVERAGE(G17,H17)","v":1.75},1.7,1.8,2,{"$f":"AVERAGE(K17,L17)","v":4.32},4.6399999999999997,4,23,{"$f":"AVERAGE(O17,P17)","v":4.3499999999999996},4.0999999999999996,4.5999999999999996,14,{"$f":"AVERAGE(S17,T17)","v":26.5},30,23,8,null,59]
["Mersey Primary",{"$f":"AVERAGE(C18,D18)","v":7.4700000000000006},5.62,9.32,15,{"$f":"AVERAGE(G18,H18)","v":1.4},1.4,1.4,12,{"$f":"AVERAGE(K18,L18)","v":4.1999999999999993},4.3,4.0999999999999996,25,{"$f":"AVERAGE(O18,P18)","v":3.25},3.2,3.3,23,{"$f":"AVERAGE(S18,T18)","v":25.5},29,22,10,null,85]
["Mersey Primary",{"$f":"AVERAGE(C19,D19)","v":6.83},5.81,7.85,18,{"$f":"AVERAGE(G19,H19)","v":1.375},1.4,1.35,13,{"$f":"AVERAGE(K19,L19)","v":3.9350000000000001},4,3.87,27,{"$f":"AVERAGE(O19,P19)","v":2.6},3.1,2.1,25,{"$f":"AVERAGE(S19,T19)","v":21},22,20,15,null,98,{"$f":"SUM(W17:W19)","v":242}]
["Neasden Primary",{"$f":"AVERAGE(C20,D20)","v":11.23},11.24,11.22,2,{"$f":"AVERAGE(G20,H20)","v":1.7250000000000001},1.65,1.8,3,{"$f":"AVERAGE(K20,L20)","v":6.4450000000000003},6.09,6.8,2,{"$f":"AVERAGE(O20,P20)","v":5.35},5.8,4.9000000000000004,7,{"$f":"AVERAGE(S20,T20)","v":27},29,25,7,null,21]
["Neasden Primary",{"$f":"AVERAGE(C21,D21)","v":5.0949999999999998},1.7,8.49,25,{"$f":"AVERAGE(G21,H21)","v":1.625},1.5,1.75,6,{"$f":"AVERAGE(K21,L21)","v":6.26},5.9,6.62,3,{"$f":"AVERAGE(O21,P21)","v":4.75},5.6,3.9,11,{"$f":"AVERAGE(S21,T21)","v":26},26,26,9,null,54]
["Neasden Primary",{"$f":"AVERAGE(C22,D22)","v":3.8},3.84,3.76,28,{"$f":"AVERAGE(G22,H22)","v":1.4},1.3,1.5,12,{"$f":"AVERAGE(K22,L22)","v":5.75},6,5.5,9,{"$f":"AVERAGE(O22,P22)","v":2.4500000000000002},1.5,3.4,26,{"$f":"AVERAGE(S22,T22)","v":19},22,16,17,null,92,{"$f":"SUM(W20:W22)","v":167}]
["Sidmouth Primary",{"$f":"AVERAGE(C23,D23)","v":11.324999999999999},11.2,11.45,1,{"$f":"AVERAGE(G23,H23)","v":1.65},1.6,1.7,5,{"$f":"AVERAGE(K23,L23)","v":6.55},6.6,6.5,1,{"$f":"AVERAGE(O23,P23)","v":5.45},5.4,5.5,6,{"$f":"AVERAGE(S23,T23)","v":33},39,27,4,null,17]
["Sidmouth Primary",{"$f":"AVERAGE(C24,D24)","v":10.620000000000001},9.94,11.3,4,{"$f":"AVERAGE(G24,H24)","v":1.625},1.6,1.65,6,{"$f":"AVERAGE(K24,L24)","v":5.95},6.4,5.5,4,{"$f":"AVERAGE(O24,P24)","v":4.25},4.5999999999999996,3.9,15,{"$f":"AVERAGE(S24,T24)","v":27},33,21,7,null,36]
["Sidmouth Primary",{"$f":"AVERAGE(C25,D25)","v":9.2600000000000016},8.9600000000000009,9.56,9,{"$f":"AVERAGE(G25,H25)","v":1.5249999999999999},1.5,1.55,8,{"$f":"AVERAGE(K25,L25)","v":5.2149999999999999},5.36,5.07,17,{"$f":"AVERAGE(O25,P25)","v":3.55},3.1,4,21,{"$f":"AVERAGE(S25,T25)","v":22.5},26,19,13,null,68,{"$f":"SUM(W23:W25)","v":121}]
["St Charles Primary",{"$f":"AVERAGE(C26,D26)","v":8.4700000000000006},8.9600000000000009,7.98,11,{"$f":"AVERAGE(G26,H26)","v":1.65},1.6,1.7,5,{"$f":"AVERAGE(K26,L26)","v":4.68},4.76,4.5999999999999996,20,{"$f":"AVERAGE(O26,P26)","v":4.4000000000000004},4.0999999999999996,4.7,13,{"$f":"AVERAGE(S26,T26)","v":36},39,33,2,null,51]
["St Charles Primary",{"$f":"AVERAGE(C27,D27)","v":6.6349999999999998},6.34,6.93,19,{"$f":"AVERAGE(G27,H27)","v":1.55},1.5,1.6,7,{"$f":"AVERAGE(K27,L27)","v":4.6449999999999996},4.5999999999999996,4.6900000000000004,21,{"$f":"AVERAGE(O27,P27)","v":4.2249999999999996},3.95,4.5,16,{"$f":"AVERAGE(S27,T27)","v":22.5},14,31,13,null,76]
["St Charles Primary",{"$f":"AVERAGE(C28,D28)","v":5.3350000000000009},4.9400000000000004,5.73,24,{"$f":"AVERAGE(G28,H28)","v":1.35},1.4,1.3,14,{"$f":"AVERAGE(K28,L28)","v":4.2850000000000001},4.07,4.5,24,{"$f":"AVERAGE(O28,P28)","v":3.7},3.7,3.7,18,{"$f":"AVERAGE(S28,T28)","v":13.5},15,12,20,null,100,{"$f":"SUM(W26:W28)","v":227}]
["St Nicholas Primary",{"$f":"AVERAGE(C29,D29)","v":10.51},10.1,10.92,5,{"$f":"AVERAGE(G29,H29)","v":1.45},1.4,1.5,10,{"$f":"AVERAGE(K29,L29)","v":5.65},5.6,5.7,10,{"$f":"AVERAGE(O29,P29)","v":6.15},6.6,5.7,2,{"$f":"AVERAGE(S29,T29)","v":19},23,15,17,null,44]
["St Nicholas Primary",{"$f":"AVERAGE(C30,D30)","v":6.42},6.22,6.62,22,{"$f":"AVERAGE(G30,H30)","v":1.4},1.3,1.5,12,{"$f":"AVERAGE(K30,L30)","v":4.32},4.2,4.4400000000000004,23,{"$f":"AVERAGE(O30,P30)","v":4.25},3.9,4.5999999999999996,15,{"$f":"AVERAGE(S30,T30)","v":15.5},16,15,18,null,90]
["St Nicholas Primary",{"$f":"AVERAGE(C31,D31)","v":3.37},2.21,4.53,29,{"$f":"AVERAGE(G31,H31)","v":1.35},1.5,1.2,14,{"$f":"AVERAGE(K31,L31)","v":4.1999999999999993},4.3,4.0999999999999996,25,{"$f":"AVERAGE(O31,P31)","v":3.65},4.0999999999999996,3.2,19,{"$f":"AVERAGE(S31,T31)","v":14.5},17,12,19,null,106,{"$f":"SUM(W29:W31)","v":240}]
["Woodlands Primary",{"$f":"AVERAGE(C32,D32)","v":7.57},6.64,8.5,14,{"$f":"AVERAGE(G32,H32)","v":1.8250000000000002},1.8,1.85,1,{"$f":"AVERAGE(K32,L32)","v":5.3},5.0999999999999996,5.5,14,{"$f":"AVERAGE(O32,P32)","v":6.05},6,6.1,3,{"$f":"AVERAGE(S32,T32)","v":28},39,17,5,null,37]
["Woodlands Primary",{"$f":"AVERAGE(C33,D33)","v":4.8699999999999992},4.3099999999999996,5.43,26,{"$f":"AVERAGE(G33,H33)","v":1.7250000000000001},1.65,1.8,3,{"$f":"AVERAGE(K33,L33)","v":5.12},5.24,5,18,{"$f":"AVERAGE(O33,P33)","v":5},4.7,5.3,9,{"$f":"AVERAGE(S33,T33)","v":24.5},30,19,11,null,67]
["Woodlands Primary",{"$f":"AVERAGE(C34,D34)","v":4.1050000000000004},2.85,5.36,27,{"$f":"AVERAGE(G34,H34)","v":1.55},1.5,1.6,7,{"$f":"AVERAGE(K34,L34)","v":4.6150000000000002},4.41,4.82,22,{"$f":"AVERAGE(O34,P34)","v":4.5},4.5,4.5,12,{"$f":"AVERAGE(S34,T34)","v":23.5},30,17,12,null,80,{"$f":"SUM(W32:W34)","v":184}]
[]
[]
["Hull School Games SportsHall Athletics Qualifier 3 Results"]
["Year 3/4 Girls Field"]
[null,"Javelin",null,null,null,"Standing Long Jump",null,null,null,"5 Strides",null,null,null,"Chest Push",null,null,null,"Speed Bouce",{"$nulls":4},"School Total Points"]
["School","Attempt 1","Attempt 2","Average","Score","Attempt 1","Attempt 2","Average","Score","Attempt 1","Attempt 2","Average","Score","Attempt 1","Attempt 2","Average","Score","Attempt 1","Attempt 2","Average","Score"]
["Christopher Pickering",6.47,8.09,{"$f":"AVERAGE(B41,C41)","v":7.2799999999999994},6,1.35,1.3,{"$f":"AVERAGE(F41:G41)","v":1.3250000000000002},10,6.1,6.34,{"$f":"AVERAGE(J41:K41)","v":6.22},4,4.9000000000000004,4.9000000000000004,{"$f":"AVERAGE(N41:O41)","v":4.9000000000000004},2,24,26,{"$f":"AVERAGE(R41:S41)","v":25},8,null,{"$f":"SUM(E41,I41,M41,Q41,U41)","v":30}]
["Christopher Pickering",6.29,6.94,{"$f":"AVERAGE(B42,C42)","v":6.6150000000000002},7,1.2,1.3,{"$f":"AVERAGE(F42:G42)","v":1.25},13,5.3,5.41,{"$f":"AVERAGE(J42:K42)","v":5.3550000000000004},10,3.4,4.3,{"$f":"AVERAGE(N42:O42)","v":3.8499999999999996},10,22,24,{"$f":"AVERAGE(R42:S42)","v":23},9,null,{"$f":"SUM(E42,I42,M42,Q42,U42)","v":49}]
["Christopher Pickering",3.01,5,{"$f":"AVERAGE(B43,C43)","v":4.0049999999999999},19,1.1000000000000001,1.2,{"$f":"AVERAGE(F43:G43)","v":1.1499999999999999},14,4.8,4.6500000000000004,{"$f":"AVERAGE(J43:K43)","v":4.7249999999999996},17,2.8,4.2,{"$f":"AVERAGE(N43:O43)","v":3.5},16,18,20,{"$f":"AVERAGE(R43:S43)","v":19},13,null,{"$f":"SUM(E43,I43,M43,Q43,U43)","v":79},{"$f":"SUM(W41:W43)","v":158}]
["Clifton Primary",4.63,3.94,{"$f":"AVERAGE(B44,C44)","v":4.2850000000000001},17,1.4,1.4,{"$f":"AVERAGE(F44:G44)","v":1.4},6,4.7,5.92,{"$f":"AVERAGE(J44:K44)","v":5.3100000000000005},11,3.2,3.7,{"$f":"AVERAGE(N44:O44)","v":3.45},17,32,26,{"$f":"AVERAGE(R44:S44)","v":29},4,null,{"$f":"SUM(E44,I44,M44,Q44,U44)","v":55}]
["Clifton Primary",1.38,2.96,{"$f":"AVERAGE(B45,C45)","v":2.17},29,1.2,1,{"$f":"AVERAGE(F45:G45)","v":1.1000000000000001},16,4.38,4.3499999999999996,{"$f":"AVERAGE(J45:K45)","v":4.3650000000000002},23,3.2,3.5,{"$f":"AVERAGE(N45:O45)","v":3.35},18,26,27,{"$f":"AVERAGE(R45:S45)","v":26.5},6,null,{"$f":"SUM(E45,I45,M45,Q45,U45)","v":92}]
["Clifton Primary",1.9,2.08,{"$f":"AVERAGE(B46,C46)","v":1.99},30,1.1399999999999999,1.05,{"$f":"AVERAGE(F46:G46)","v":1.095},16,3.8,3.67,{"$f":"AVERAGE(J46:K46)","v":3.7349999999999999},30,3.4,3.3,{"$f":"AVERAGE(N46:O46)","v":3.3499999999999996},18,22,22,{"$f":"AVERAGE(R46:S46)","v":22},10,null,{"$f":"SUM(E46,I46,M46,Q46,U46)","v":104},{"$f":"SUM(W44:W46)","v":251}]
["Francis Askew",4.24,5.63,{"$f":"AVERAGE(B47,C47)","v":4.9350000000000005},12,1.5,1.55,{"$f":"AVERAGE(F47:G47)","v":1.5249999999999999},3,4.91,5.1100000000000003,{"$f":"AVERAGE(J47:K47)","v":5.01},14,5.0999999999999996,4.5999999999999996,{"$f":"AVERAGE(N47:O47)","v":4.8499999999999996},3,34,29,{"$f":"AVERAGE(R47:S47)","v":31.5},2,null,{"$f":"SUM(E47,I47,M47,Q47,U47)","v":34}]
["Francis Askew",4.6900000000000004,4.58,{"$f":"AVERAGE(B48,C48)","v":4.6349999999999998},15,1.2,1.5,{"$f":"AVERAGE(F48:G48)","v":1.35},9,3.8,4.45,{"$f":"AVERAGE(J48:K48)","v":4.125},26,4.2,4.5,{"$f":"AVERAGE(N48:O48)","v":4.3499999999999996},4,36,24,{"$f":"AVERAGE(R48:S48)","v":30},3,null,{"$f":"SUM(E48,I48,M48,Q48,U48)","v":57}]
["Francis Askew",3.12,4.22,{"$f":"AVERAGE(B49,C49)","v":3.67},23,1.1000000000000001,1.1000000000000001,{"$f":"AVERAGE(F49:G49)","v":1.1000000000000001},16,3.06,5.03,{"$f":"AVERAGE(J49:K49)","v":4.0449999999999999},28,3.7,3.8,{"$f":"AVERAGE(N49:O49)","v":3.75},12,36,24,{"$f":"AVERAGE(R49:S49)","v":30},3,null,{"$f":"SUM(E49,I49,M49,Q49,U49)","v":82},{"$f":"SUM(W47:W49)","v":173}]
["Ings Primary",6.47,8.17,{"$f":"AVERAGE(B50,C50)","v":7.32},5,1.3,1.4,{"$f":"AVERAGE(F50:G50)","v":1.35},9,5.63,7.2,{"$f":"AVERAGE(J50:K50)","v":6.415},2,4,4.7,{"$f":"AVERAGE(N50:O50)","v":4.3499999999999996},4,34,23,{"$f":"AVERAGE(R50:S50)","v":28.5},4,null,{"$f":"SUM(E50,I50,M50,Q50,U50)","v":24}]
["Ings Primary",3.78,6.62,{"$f":"AVERAGE(B51,C51)","v":5.2},11,1.2,1.45,{"$f":"AVERAGE(F51:G51)","v":1.325},10,5.25,5.58,{"$f":"AVERAGE(J51:K51)","v":5.415},9,3.3,4,{"$f":"AVERAGE(N51:O51)","v":3.65},14,24,25,{"$f":"AVERAGE(R51:S51)","v":24.5},8,null,{"$f":"SUM(E51,I51,M51,Q51,U51)","v":52}]
["Ings Primary",6.32,3.24,{"$f":"AVERAGE(B52,C52)","v":4.78},14,1.2,1.4,{"$f":"AVERAGE(F52:G52)","v":1.2999999999999998},11,4.49,5.0999999999999996,{"$f":"AVERAGE(J52:K52)","v":4.7949999999999999},15,3,4.0999999999999996,{"$f":"AVERAGE(N52:O52)","v":3.55},15,23,18,{"$f":"AVERAGE(R52:S52)","v":20.5},11,null,{"$f":"SUM(E52,I52,M52,Q52,U52)","v":66},{"$f":"SUM(W50:W52)","v":142}]
["Mersey Primary",8.42,8.0399999999999991,{"$f":"AVERAGE(B53,C53)","v":8.23},2,1.6,1.58,{"$f":"AVERAGE(F53:G53)","v":1.59},2,4.5999999999999996,4.6399999999999997,{"$f":"AVERAGE(J53:K53)","v":4.6199999999999992},19,4.3,3.9,{"$f":"AVERAGE(N53:O53)","v":4.0999999999999996},6,37,28,{"$f":"AVERAGE(R53:S53)","v":32.5},1,null,{"$f":"SUM(E53,I53,M53,Q53,U53)","v":30}]
["Mersey Primary",9.41,5.33,{"$f":"AVERAGE(B54,C54)","v":7.37},4,1.5,1.35,{"$f":"AVERAGE(F54:G54)","v":1.425},5,3.67,4.4400000000000004,{"$f":"AVERAGE(J54:K54)","v":4.0549999999999997},27,3.7,4.3,{"$f":"AVERAGE(N54:O54)","v":4},7,27,22,{"$f":"AVERAGE(R54:S54)","v":24.5},8,null,{"$f":"SUM(E54,I54,M54,Q54,U54)","v":51}]
["Mersey Primary",3.25,2.8,{"$f":"AVERAGE(B55,C55)","v":3.0249999999999999},28,1.3,1.5,{"$f":"AVERAGE(F55:G55)","v":1.4},6,3.84,4.2,{"$f":"AVERAGE(J55:K55)","v":4.0199999999999996},29,3.3,4.0999999999999996,{"$f":"AVERAGE(N55:O55)","v":3.6999999999999997},13,20,17,{"$f":"AVERAGE(R55:S55)","v":18.5},13,null,{"$f":"SUM(E55,I55,M55,Q55,U55)","v":89},{"$f":"SUM(W53:W55)","v":170}]
["Neasden Primary",6.63,4.0599999999999996,{"$f":"AVERAGE(B56:C56)","v":5.3449999999999998},10,1.3,1.55,{"$f":"AVERAGE(F56:G56)","v":1.425},5,6.1,6.4,{"$f":"AVERAGE(J56:K56)","v":6.25},3,4.0999999999999996,4.2,{"$f":"AVERAGE(N56:O56)","v":4.1500000000000004},5,34,26,{"$f":"AVERAGE(R56:S56)","v":30},3,null,{"$f":"SUM(E56,I56,M56,Q56,U56)","v":26}]
["Neasden Primary",5.42,4.1900000000000004,{"$f":"AVERAGE(B57:C57)","v":4.8049999999999997},13,1.25,1.3,{"$f":"AVERAGE(F57:G57)","v":1.2749999999999999},12,5.6,6.1,{"$f":"AVERAGE(J57:K57)","v":5.85},6,4.0999999999999996,4.2,{"$f":"AVERAGE(N57:O57)","v":4.1500000000000004},5,22,17,{"$f":"AVERAGE(R57:S57)","v":19.5},12,null,{"$f":"SUM(E57,I57,M57,Q57,U57)","v":48}]
["Neasden Primary",3.82,3.95,{"$f":"AVERAGE(B58:C58)","v":3.8849999999999998},21,1,1.1000000000000001,{"$f":"AVERAGE(F58:G58)","v":1.05},17,4.7300000000000004,4.7,{"$f":"AVERAGE(J58:K58)","v":4.7149999999999999},18,4,3.9,{"$f":"AVERAGE(N58:O58)","v":3.95},8,19,19,{"$f":"AVERAGE(R58:S58)","v":19},13,null,{"$f":"SUM(E58,I58,M58,Q58,U58)","v":77},{"$f":"SUM(W56:W58)","v":151}]
["Sidmouth Primary",8.44,9.0399999999999991,{"$f":"AVERAGE(B59:C59)","v":8.7399999999999984},1,1.7,1.75,{"$f":"AVERAGE(F59:G59)","v":1.7250000000000001},1,4.5,5.53,{"$f":"AVERAGE(J59:K59)","v":5.0150000000000006},13,4.8,5.2,{"$f":"AVERAGE(N59:O59)","v":5},1,34,32,{"$f":"AVERAGE(R59:S59)","v":33},1,null,{"$f":"SUM(E59,I59,M59,Q59,U59)","v":17}]
["Sidmouth Primary",6.64,4.9000000000000004,{"$f":"AVERAGE(B60:C60)","v":5.77},9,1.5,1.4,{"$f":"AVERAGE(F60:G60)","v":1.45},4,4.5,4.3899999999999997,{"$f":"AVERAGE(J60:K60)","v":4.4450000000000003},22,3.8,3.8,{"$f":"AVERAGE(N60:O60)","v":3.8},11,33,23,{"$f":"AVERAGE(R60:S60)","v":28},5,null,{"$f":"SUM(E60,I60,M60,Q60,U60)","v":51}]
["Sidmouth Primary",2.39,5.59,{"$f":"AVERAGE(B61:C61)","v":3.99},20,1.4,1.34,{"$f":"AVERAGE(F61:G61)","v":1.37},8,4.3099999999999996,4.3,{"$f":"AVERAGE(J61:K61)","v":4.3049999999999997},24,3.1,4,{"$f":"AVERAGE(N61:O61)","v":3.55},15,33,19,{"$f":"AVERAGE(R61:S61)","v":26},7,null,{"$f":"SUM(E61,I61,M61,Q61,U61)","v":74},{"$f":"SUM(W59:W61)","v":142}]
["St Charles Primary",7.57,7.5,{"$f":"AVERAGE(B62:C62)","v":7.5350000000000001},3,1.2,1.3,{"$f":"AVERAGE(F62:G62)","v":1.25},13,6.6,5.5,{"$f":"AVERAGE(J62:K62)","v":6.05},5,4.4000000000000004,4.3,{"$f":"AVERAGE(N62:O62)","v":4.3499999999999996},4,34,22,{"$f":"AVERAGE(R62:S62)","v":28},5,null,{"$f":"SUM(E62,I62,M62,Q62,U62)","v":30}]
["St Charles Primary",5.91,3.12,{"$f":"AVERAGE(B63:C63)","v":4.5150000000000006},16,1.05,1,{"$f":"AVERAGE(F63:G63)","v":1.0249999999999999},18,6.8,4.8,{"$f":"AVERAGE(J63:K63)","v":5.8},7,3.3,4.7,{"$f":"AVERAGE(N63:O63)","v":4},7,20,16,{"$f":"AVERAGE(R63:S63)","v":18},14,null,{"$f":"SUM(E63,I63,M63,Q63,U63)","v":62}]
["St Charles Primary",2.12,5.63,{"$f":"AVERAGE(B64:C64)","v":3.875},22,0.8,1,{"$f":"AVERAGE(F64:G64)","v":0.9},19,4.6399999999999997,4.5,{"$f":"AVERAGE(J64:K64)","v":4.57},20,2.6,2.8,{"$f":"AVERAGE(N64:O64)","v":2.7},19,14,13,{"$f":"AVERAGE(R64:S64)","v":13.5},16,null,{"$f":"SUM(E64,I64,M64,Q64,U64)","v":96},{"$f":"SUM(W62:W64)","v":188}]
["St Nicholas Primary",3.76,4.55,{"$f":"AVERAGE(B65:C65)","v":4.1549999999999994},18,1.5,1.55,{"$f":"AVERAGE(F65:G65)","v":1.5249999999999999},3,4.6100000000000003,4.9000000000000004,{"$f":"AVERAGE(J65:K65)","v":4.7550000000000008},16,4.0999999999999996,4.0999999999999996,{"$f":"AVERAGE(N65:O65)","v":4.0999999999999996},6,30,25,{"$f":"AVERAGE(R65:S65)","v":27.5},5,null,{"$f":"SUM(E65,I65,M65,Q65,U65)","v":48}]
["St Nicholas Primary",4.42,2.9,{"$f":"AVERAGE(B66:C66)","v":3.66},24,1.2,1.5,{"$f":"AVERAGE(F66:G66)","v":1.35},9,4.25,4.7,{"$f":"AVERAGE(J66:K66)","v":4.4749999999999996},21,3.8,4,{"$f":"AVERAGE(N66:O66)","v":3.9},9,21,16,{"$f":"AVERAGE(R66:S66)","v":18.5},13,null,{"$f":"SUM(E66,I66,M66,Q66,U66)","v":76}]
["St Nicholas Primary",3.92,3.15,{"$f":"AVERAGE(B67:C67)","v":3.5350000000000001},25,1,1.25,{"$f":"AVERAGE(F67:G67)","v":1.125},15,4.28,4.0999999999999996,{"$f":"AVERAGE(J67:K67)","v":4.1899999999999995},25,3.7,4,{"$f":"AVERAGE(N67:O67)","v":3.85},10,20,14,{"$f":"AVERAGE(R67:S67)","v":17},15,null,{"$f":"SUM(E67,I67,M67,Q67,U67)","v":90},{"$f":"SUM(W65:W67)","v":214}]
["Woodlands Primary",6.5,5.62,{"$f":"AVERAGE(B68:C68)","v":6.0600000000000005},8,1.35,1.4,{"$f":"AVERAGE(F68:G68)","v":1.375},7,6.94,6.05,{"$f":"AVERAGE(J68:K68)","v":6.4950000000000001},1,3.9,3.8,{"$f":"AVERAGE(N68:O68)","v":3.8499999999999996},10,33,25,{"$f":"AVERAGE(R68:S68)","v":29},4,null,{"$f":"SUM(E68,I68,M68,Q68,U68)","v":30}]
["Woodlands Primary",3.53,3.06,{"$f":"AVERAGE(B69:C69)","v":3.2949999999999999},26,1.4,1.3,{"$f":"AVERAGE(F69:G69)","v":1.35},9,5.2,5.7,{"$f":"AVERAGE(J69:K69)","v":5.45},8,3.2,4.2,{"$f":"AVERAGE(N69:O69)","v":3.7},13,30,16,{"$f":"AVERAGE(R69:S69)","v":23},9,null,{"$f":"SUM(E69,I69,M69,Q69,U69)","v":65}]
["Woodlands Primary",3.72,2.74,{"$f":"AVERAGE(B70:C70)","v":3.2300000000000004},27,1.3,1.2,{"$f":"AVERAGE(F70:G70)","v":1.25},13,5.26,4.95,{"$f":"AVERAGE(J70:K70)","v":5.1050000000000004},12,3.7,3.2,{"$f":"AVERAGE(N70:O70)","v":3.45},17,26,19,{"$f":"AVERAGE(R70:S70)","v":22.5},9,null,{"$f":"SUM(E70,I70,M70,Q70,U70)","v":78},{"$f":"SUM(W68:W70)","v":173}]

{"sheet":"Y34Girls Field","index":2,"n_rows":166,"n_cols":24,"rows_kept":166,"cut":false,"hidden":true,"merged":[[2,1,2,4],[2,5,2,8],[2,9,2,12],[2,13,2,16],[2,17,2,20]]}
["Hull School Games SportsHall Athletics Qualifier 3 Results"]
["Year 3/4 Girls Field"]
[null,"Javelin",null,null,null,"Standing Long Jump",null,null,null,"5 Strides",null,null,null,"Chest Push",null,null,null,"Speed Bouce",{"$nulls":4},"School Total Points"]
["School","Attempt 1","Attempt 2","Average","Score","Attempt 1","Attempt 2","Average","Score","Attempt 1","Attempt 2","Average","Score","Attempt 1","Attempt 2","Average","Score","Attempt 1","Attempt 2","Average","Score"]
["Christopher Pickering",6.47,8.09,{"$f":"AVERAGE(B5,C5)","v":7.2799999999999994},6,1.35,1.3,{"$f":"AVERAGE(F5:G5)","v":1.3250000000000002},10,6.1,6.34,{"$f":"AVERAGE(J5:K5)","v":6.22},4,4.9000000000000004,4.9000000000000004,{"$f":"AVERAGE(N5:O5)","v":4.9000000000000004},2,24,26,{"$f":"AVERAGE(R5:S5)","v":25},8,null,{"$f":"SUM(E5,I5,M5,Q5,U5)","v":30}]
["Christopher Pickering",6.29,6.94,{"$f":"AVERAGE(B6,C6)","v":6.6150000000000002},7,1.2,1.3,{"$f":"AVERAGE(F6:G6)","v":1.25},13,5.3,5.41,{"$f":"AVERAGE(J6:K6)","v":5.3550000000000004},10,3.4,4.3,{"$f":"AVERAGE(N6:O6)","v":3.8499999999999996},10,22,24,{"$f":"AVERAGE(R6:S6)","v":23},9,null,{"$f":"SUM(E6,I6,M6,Q6,U6)","v":49}]
["Christopher Pickering",3.01,5,{"$f":"AVERAGE(B7,C7)","v":4.0049999999999999},19,1.1000000000000001,1.2,{"$f":"AVERAGE(F7:G7)","v":1.1499999999999999},14,4.8,4.6500000000000004,{"$f":"AVERAGE(J7:K7)","v":4.7249999999999996},17,2.8,4.2,{"$f":"AVERAGE(N7:O7)","v":3.5},16,18,20,{"$f":"AVERAGE(R7:S7)","v":19},13,null,{"$f":"SUM(E7,I7,M7,Q7,U7)","v":79},{"$f":"SUM(W5:W7)","v":158}]
["Clifton Primary",4.63,3.94,{"$f":"AVERAGE(B8,C8)","v":4.2850000000000001},17,1.4,1.4,{"$f":"AVERAGE(F8:G8)","v":1.4},6,4.7,5.92,{"$f":"AVERAGE(J8:K8)","v":5.3100000000000005},11,3.2,3.7,{"$f":"AVERAGE(N8:O8)","v":3.45},17,32,26,{"$f":"AVERAGE(R8:S8)","v":29},4,null,{"$f":"SUM(E8,I8,M8,Q8,U8)","v":55}]
["Clifton Primary",1.38,2.96,{"$f":"AVERAGE(B9,C9)","v":2.17},29,1.2,1,{"$f":"AVERAGE(F9:G9)","v":1.1000000000000001},16,4.38,4.3499999999999996,{"$f":"AVERAGE(J9:K9)","v":4.3650000000000002},23,3.2,3.5,{"$f":"AVERAGE(N9:O9)","v":3.35},18,26,27,{"$f":"AVERAGE(R9:S9)","v":26.5},6,null,{"$f":"SUM(E9,I9,M9,Q9,U9)","v":92}]
["Clifton Primary",1.9,2.08,{"$f":"AVERAGE(B10,C10)","v":1.99},30,1.1399999999999999,1.05,{"$f":"AVERAGE(F10:G10)","v":1.095},16,3.8,3.67,{"$f":"AVERAGE(J10:K10)","v":3.7349999999999999},30,3.4,3.3,{"$f":"AVERAGE(N10:O10)","v":3.3499999999999996},18,22,22,{"$f":"AVERAGE(R10:S10)","v":22},10,null,{"$f":"SUM(E10,I10,M10,Q10,U10)","v":104},{"$f":"SUM(W8:W10)","v":251}]
["Francis Askew",4.24,5.63,{"$f":"AVERAGE(B11,C11)","v":4.9350000000000005},12,1.5,1.55,{"$f":"AVERAGE(F11:G11)","v":1.5249999999999999},3,4.91,5.1100000000000003,{"$f":"AVERAGE(J11:K11)","v":5.01},14,5.0999999999999996,4.5999999999999996,{"$f":"AVERAGE(N11:O11)","v":4.8499999999999996},3,34,29,{"$f":"AVERAGE(R11:S11)","v":31.5},2,null,{"$f":"SUM(E11,I11,M11,Q11,U11)","v":34}]
["Francis Askew",4.6900000000000004,4.58,{"$f":"AVERAGE(B12,C12)","v":4.6349999999999998},15,1.2,1.5,{"$f":"AVERAGE(F12:G12)","v":1.35},9,3.8,4.45,{"$f":"AVERAGE(J12:K12)","v":4.125},26,4.2,4.5,{"$f":"AVERAGE(N12:O12)","v":4.3499999999999996},4,36,24,{"$f":"AVERAGE(R12:S12)","v":30},3,null,{"$f":"SUM(E12,I12,M12,Q12,U12)","v":57}]
["Francis Askew",3.12,4.22,{"$f":"AVERAGE(B13,C13)","v":3.67},23,1.1000000000000001,1.1000000000000001,{"$f":"AVERAGE(F13:G13)","v":1.1000000000000001},16,3.06,5.03,{"$f":"AVERAGE(J13:K13)","v":4.0449999999999999},28,3.7,3.8,{"$f":"AVERAGE(N13:O13)","v":3.75},12,36,24,{"$f":"AVERAGE(R13:S13)","v":30},3,null,{"$f":"SUM(E13,I13,M13,Q13,U13)","v":82},{"$f":"SUM(W11:W13)","v":173}]
["Ings Primary",6.47,8.17,{"$f":"AVERAGE(B14,C14)","v":7.32},5,1.3,1.4,{"$f":"AVERAGE(F14:G14)","v":1.35},9,5.63,7.2,{"$f":"AVERAGE(J14:K14)","v":6.415},2,4,4.7,{"$f":"AVERAGE(N14:O14)","v":4.3499999999999996},4,34,23,{"$f":"AVERAGE(R14:S14)","v":28.5},4,null,{"$f":"SUM(E14,I14,M14,Q14,U14)","v":24}]
["Ings Primary",3.78,6.62,{"$f":"AVERAGE(B15,C15)","v":5.2},11,1.2,1.45,{"$f":"AVERAGE(F15:G15)","v":1.325},10,5.25,5.58,{"$f":"AVERAGE(J15:K15)","v":5.415},9,3.3,4,{"$f":"AVERAGE(N15:O15)","v":3.65},14,24,25,{"$f":"AVERAGE(R15:S15)","v":24.5},8,null,{"$f":"SUM(E15,I15,M15,Q15,U15)","v":52}]
["Ings Primary",6.32,3.24,{"$f":"AVERAGE(B16,C16)","v":4.78},14,1.2,1.4,{"$f":"AVERAGE(F16:G16)","v":1.2999999999999998},11,4.49,5.0999999999999996,{"$f":"AVERAGE(J16:K16)","v":4.7949999999999999},15,3,4.0999999999999996,{"$f":"AVERAGE(N16:O16)","v":3.55},15,23,18,{"$f":"AVERAGE(R16:S16)","v":20.5},11,null,{"$f":"SUM(E16,I16,M16,Q16,U16)","v":66},{"$f":"SUM(W14:W16)","v":142}]
["Mersey Primary",8.42,8.0399999999999991,{"$f":"AVERAGE(B17,C17)","v":8.23},2,1.6,1.58,{"$f":"AVERAGE(F17:G17)","v":1.59},2,4.5999999999999996,4.6399999999999997,{"$f":"AVERAGE(J17:K17)","v":4.6199999999999992},19,4.3,3.9,{"$f":"AVERAGE(N17:O17)","v":4.0999999999999996},6,37,28,{"$f":"AVERAGE(R17:S17)","v":32.5},1,null,{"$f":"SUM(E17,I17,M17,Q17,U17)","v":30}]
["Mersey Primary",9.41,5.33,{"$f":"AVERAGE(B18,C18)","v":7.37},4,1.5,1.35,{"$f":"AVERAGE(F18:G18)","v":1.425},5,3.67,4.4400000000000004,{"$f":"AVERAGE(J18:K18)","v":4.0549999999999997},27,3.7,4.3,{"$f":"AVERAGE(N18:O18)","v":4},7,27,22,{"$f":"AVERAGE(R18:S18)","v":24.5},8,null,{"$f":"SUM(E18,I18,M18,Q18,U18)","v":51}]
["Mersey Primary",3.25,2.8,{"$f":"AVERAGE(B19,C19)","v":3.0249999999999999},28,1.3,1.5,{"$f":"AVERAGE(F19:G19)","v":1.4},6,3.84,4.2,{"$f":"AVERAGE(J19:K19)","v":4.0199999999999996},29,3.3,4.0999999999999996,{"$f":"AVERAGE(N19:O19)","v":3.6999999999999997},13,20,17,{"$f":"AVERAGE(R19:S19)","v":18.5},13,null,{"$f":"SUM(E19,I19,M19,Q19,U19)","v":89},{"$f":"SUM(W17:W19)","v":170}]
["Neasden Primary",6.63,4.0599999999999996,{"$f":"AVERAGE(B20:C20)","v":5.3449999999999998},10,1.3,1.55,{"$f":"AVERAGE(F20:G20)","v":1.425},5,6.1,6.4,{"$f":"AVERAGE(J20:K20)","v":6.25},3,4.0999999999999996,4.2,{"$f":"AVERAGE(N20:O20)","v":4.1500000000000004},5,34,26,{"$f":"AVERAGE(R20:S20)","v":30},3,null,{"$f":"SUM(E20,I20,M20,Q20,U20)","v":26}]
["Neasden Primary",5.42,4.1900000000000004,{"$f":"AVERAGE(B21:C21)","v":4.8049999999999997},13,1.25,1.3,{"$f":"AVERAGE(F21:G21)","v":1.2749999999999999},12,5.6,6.1,{"$f":"AVERAGE(J21:K21)","v":5.85},6,4.0999999999999996,4.2,{"$f":"AVERAGE(N21:O21)","v":4.1500000000000004},5,22,17,{"$f":"AVERAGE(R21:S21)","v":19.5},12,null,{"$f":"SUM(E21,I21,M21,Q21,U21)","v":48}]
["Neasden Primary",3.82,3.95,{"$f":"AVERAGE(B22:C22)","v":3.8849999999999998},21,1,1.1000000000000001,{"$f":"AVERAGE(F22:G22)","v":1.05},17,4.7300000000000004,4.7,{"$f":"AVERAGE(J22:K22)","v":4.7149999999999999},18,4,3.9,{"$f":"AVERAGE(N22:O22)","v":3.95},8,19,19,{"$f":"AVERAGE(R22:S22)","v":19},13,null,{"$f":"SUM(E22,I22,M22,Q22,U22)","v":77},{"$f":"SUM(W20:W22)","v":151}]
["Sidmouth Primary",8.44,9.0399999999999991,{"$f":"AVERAGE(B23:C23)","v":8.7399999999999984},1,1.7,1.75,{"$f":"AVERAGE(F23:G23)","v":1.7250000000000001},1,4.5,5.53,{"$f":"AVERAGE(J23:K23)","v":5.0150000000000006},13,4.8,5.2,{"$f":"AVERAGE(N23:O23)","v":5},1,34,32,{"$f":"AVERAGE(R23:S23)","v":33},1,null,{"$f":"SUM(E23,I23,M23,Q23,U23)","v":17}]
["Sidmouth Primary",6.64,4.9000000000000004,{"$f":"AVERAGE(B24:C24)","v":5.77},9,1.5,1.4,{"$f":"AVERAGE(F24:G24)","v":1.45},4,4.5,4.3899999999999997,{"$f":"AVERAGE(J24:K24)","v":4.4450000000000003},22,3.8,3.8,{"$f":"AVERAGE(N24:O24)","v":3.8},11,33,23,{"$f":"AVERAGE(R24:S24)","v":28},5,null,{"$f":"SUM(E24,I24,M24,Q24,U24)","v":51}]
["Sidmouth Primary",2.39,5.59,{"$f":"AVERAGE(B25:C25)","v":3.99},20,1.4,1.34,{"$f":"AVERAGE(F25:G25)","v":1.37},8,4.3099999999999996,4.3,{"$f":"AVERAGE(J25:K25)","v":4.3049999999999997},24,3.1,4,{"$f":"AVERAGE(N25:O25)","v":3.55},15,33,19,{"$f":"AVERAGE(R25:S25)","v":26},7,null,{"$f":"SUM(E25,I25,M25,Q25,U25)","v":74},{"$f":"SUM(W23:W25)","v":142}]
["St Charles Primary",7.57,7.5,{"$f":"AVERAGE(B26:C26)","v":7.5350000000000001},3,1.2,1.3,{"$f":"AVERAGE(F26:G26)","v":1.25},13,6.6,5.5,{"$f":"AVERAGE(J26:K26)","v":6.05},5,4.4000000000000004,4.3,{"$f":"AVERAGE(N26:O26)","v":4.3499999999999996},4,34,22,{"$f":"AVERAGE(R26:S26)","v":28},5,null,{"$f":"SUM(E26,I26,M26,Q26,U26)","v":30}]
["St Charles Primary",5.91,3.12,{"$f":"AVERAGE(B27:C27)","v":4.5150000000000006},16,1.05,1,{"$f":"AVERAGE(F27:G27)","v":1.0249999999999999},18,6.8,4.8,{"$f":"AVERAGE(J27:K27)","v":5.8},7,3.3,4.7,{"$f":"AVERAGE(N27:O27)","v":4},7,20,16,{"$f":"AVERAGE(R27:S27)","v":18},14,null,{"$f":"SUM(E27,I27,M27,Q27,U27)","v":62}]
["St Charles Primary",2.12,5.63,{"$f":"AVERAGE(B28:C28)","v":3.875},22,0.8,1,{"$f":"AVERAGE(F28:G28)","v":0.9},19,4.6399999999999997,4.5,{"$f":"AVERAGE(J28:K28)","v":4.57},20,2.6,2.8,{"$f":"AVERAGE(N28:O28)","v":2.7},19,14,13,{"$f":"AVERAGE(R28:S28)","v":13.5},16,null,{"$f":"SUM(E28,I28,M28,Q28,U28)","v":96},{"$f":"SUM(W26:W28)","v":188}]
["St Nicholas Primary",3.76,4.55,{"$f":"AVERAGE(B29:C29)","v":4.1549999999999994},18,1.5,1.55,{"$f":"AVERAGE(F29:G29)","v":1.5249999999999999},3,4.6100000000000003,4.9000000000000004,{"$f":"AVERAGE(J29:K29)","v":4.7550000000000008},16,4.0999999999999996,4.0999999999999996,{"$f":"AVERAGE(N29:O29)","v":4.0999999999999996},6,30,25,{"$f":"AVERAGE(R29:S29)","v":27.5},5,null,{"$f":"SUM(E29,I29,M29,Q29,U29)","v":48}]
["St Nicholas Primary",4.42,2.9,{"$f":"AVERAGE(B30:C30)","v":3.66},24,1.2,1.5,{"$f":"AVERAGE(F30:G30)","v":1.35},9,4.25,4.7,{"$f":"AVERAGE(J30:K30)","v":4.4749999999999996},21,3.8,4,{"$f":"AVERAGE(N30:O30)","v":3.9},9,21,16,{"$f":"AVERAGE(R30:S30)","v":18.5},13,null,{"$f":"SUM(E30,I30,M30,Q30,U30)","v":76}]
["St Nicholas Primary",3.92,3.15,{"$f":"AVERAGE(B31:C31)","v":3.5350000000000001},25,1,1.25,{"$f":"AVERAGE(F31:G31)","v":1.125},15,4.28,4.0999999999999996,{"$f":"AVERAGE(J31:K31)","v":4.1899999999999995},25,3.7,4,{"$f":"AVERAGE(N31:O31)","v":3.85},10,20,14,{"$f":"AVERAGE(R31:S31)","v":17},15,null,{"$f":"SUM(E31,I31,M31,Q31,U31)","v":90},{"$f":"SUM(W29:W31)","v":214}]
["Woodlands Primary",6.5,5.62,{"$f":"AVERAGE(B32:C32)","v":6.0600000000000005},8,1.35,1.4,{"$f":"AVERAGE(F32:G32)","v":1.375},7,6.94,6.05,{"$f":"AVERAGE(J32:K32)","v":6.4950000000000001},1,3.9,3.8,{"$f":"AVERAGE(N32:O32)","v":3.8499999999999996},10,33,25,{"$f":"AVERAGE(R32:S32)","v":29},4,null,{"$f":"SUM(E32,I32,M32,Q32,U32)","v":30}]
["Woodlands Primary",3.53,3.06,{"$f":"AVERAGE(B33:C33)","v":3.2949999999999999},26,1.4,1.3,{"$f":"AVERAGE(F33:G33)","v":1.35},9,5.2,5.7,{"$f":"AVERAGE(J33:K33)","v":5.45},8,3.2,4.2,{"$f":"AVERAGE(N33:O33)","v":3.7},13,30,16,{"$f":"AVERAGE(R33:S33)","v":23},9,null,{"$f":"SUM(E33,I33,M33,Q33,U33)","v":65}]
["Woodlands Primary",3.72,2.74,{"$f":"AVERAGE(B34:C34)","v":3.2300000000000004},27,1.3,1.2,{"$f":"AVERAGE(F34:G34)","v":1.25},13,5.26,4.95,{"$f":"AVERAGE(J34:K34)","v":5.1050000000000004},12,3.7,3.2,{"$f":"AVERAGE(N34:O34)","v":3.45},17,26,19,{"$f":"AVERAGE(R34:S34)","v":22.5},9,null,{"$f":"SUM(E34,I34,M34,Q34,U34)","v":78},{"$f":"SUM(W32:W34)","v":173}]
{"$rows_empty":100}
[null,"Speed Bouce"]
["School","Attempt 1","Attempt 2","Average","Score"]
["Christopher Pickering",24,26,{"$f":"AVERAGE(B137:C137)","v":25},8]
["Christopher Pickering",22,24,{"$f":"AVERAGE(B138:C138)","v":23},9]
["Christopher Pickering",18,20,{"$f":"AVERAGE(B139:C139)","v":19},13]
["Clifton Primary",32,26,{"$f":"AVERAGE(B140:C140)","v":29},4]
["Clifton Primary",26,27,{"$f":"AVERAGE(B141:C141)","v":26.5},6]
["Clifton Primary",22,22,{"$f":"AVERAGE(B142:C142)","v":22},10]
["Francis Askew",34,29,{"$f":"AVERAGE(B143:C143)","v":31.5},2]
["Francis Askew",36,24,{"$f":"AVERAGE(B144:C144)","v":30},3]
["Francis Askew",36,24,{"$f":"AVERAGE(B145:C145)","v":30},3]
["Ings Primary",34,23,{"$f":"AVERAGE(B146:C146)","v":28.5},4]
["Ings Primary",24,25,{"$f":"AVERAGE(B147:C147)","v":24.5},8]
["Ings Primary",23,18,{"$f":"AVERAGE(B148:C148)","v":20.5},11]
["Mersey Primary",37,28,{"$f":"AVERAGE(B149:C149)","v":32.5},1]
["Mersey Primary",27,22,{"$f":"AVERAGE(B150:C150)","v":24.5},8]
["Mersey Primary",20,17,{"$f":"AVERAGE(B151:C151)","v":18.5},13]
["Neasden Primary",34,26,{"$f":"AVERAGE(B152:C152)","v":30},3]
["Neasden Primary",22,17,{"$f":"AVERAGE(B153:C153)","v":19.5},12]
["Neasden Primary",19,19,{"$f":"AVERAGE(B154:C154)","v":19},13]
["Sidmouth Primary",34,32,{"$f":"AVERAGE(B155:C155)","v":33},1]
["Sidmouth Primary",33,23,{"$f":"AVERAGE(B156:C156)","v":28},5]
["Sidmouth Primary",33,19,{"$f":"AVERAGE(B157:C157)","v":26},7]
["St Charles Primary",34,22,{"$f":"AVERAGE(B158:C158)","v":28},5]
["St Charles Primary",20,16,{"$f":"AVERAGE(B159:C159)","v":18},14]
["St Charles Primary",14,13,{"$f":"AVERAGE(B160:C160)","v":13.5},16]
["St Nicholas Primary",30,25,{"$f":"AVERAGE(B161:C161)","v":27.5},5]
["St Nicholas Primary",21,16,{"$f":"AVERAGE(B162:C162)","v":18.5},13]
["St Nicholas Primary",20,14,{"$f":"AVERAGE(B163:C163)","v":17},15]
["Woodlands Primary",33,25,{"$f":"AVERAGE(B164:C164)","v":29},4]
["Woodlands Primary",30,16,{"$f":"AVERAGE(B165:C165)","v":23},9]
["Woodlands Primary",26,19,{"$f":"AVERAGE(B166:C166)","v":22.5},9]

{"sheet":"Y34 Track","index":3,"n_rows":29,"n_cols":15,"rows_kept":29,"cut":false,"hidden":false,"merged":[[17,4,17,6],[17,7,17,9],[17,10,17,12],[2,1,2,3],[2,4,2,6],[2,7,2,9],[2,10,2,12],[17,1,17,3]]}
["Year 3/4 Track Results"]
["Girls"]
[null,"1+1 Lap",null,null,"2+2 Lap",null,null,"1+1 Hurldes",null,null,"4x1 Relay",null,null,null,"School Total Score"]
["School","Time","Pos","Score","Time","Pos","Score","Time","Pos","Score","Time","Pos","Score"]
["Christopher Pickering",30.48,4,{"$f":"C5*6","v":24},64.5,6,{"$f":"F5*6","v":36},33.479999999999997,3,{"$f":"I5*6","v":18},50.06,1,{"$f":"L5*6","v":6},null,{"$f":"SUM(D5,G5,J5,M5)","v":84}]
["Clifton Primary",31.89,7,{"$f":"C6*6","v":42},67.98,8,{"$f":"F6*6","v":48},34.06,4,{"$f":"I6*6","v":24},60.92,2,{"$f":"L6*6","v":12},null,{"$f":"SUM(D6,G6,J6,M6)","v":126}]
["Francis Aksew",28.17,1,6,61.5,2,12,34.06,4,24,65.040000000000006,3,18,null,60]
["Ings",30.14,2,12,60.92,1,6,33.479999999999997,3,18,66.11,5,30,null,66]
["Mersey Academy",33.79,10,60,63.82,4,24,39.56,7,42,65.77,4,24,null,150]
["Neasden",30.64,5,30,65.23,7,42,31.86,1,6,70.34,6,36,null,114]
["Sidmouth",30.22,3,18,64.08,5,30,34.81,5,30,70.34,6,36,null,114]
["St Charles",33.5,9,54,68.52,9,54,57.5,8,48,72.709999999999994,9,54,null,210]
["St Nicholas",33.450000000000003,8,48,62.39,3,18,35.61,6,36,72.569999999999993,8,48,null,150]
["Woodlands",31.86,6,36,65.23,7,42,33.08,2,12,72.3,7,42,null,132]
[]
["Year 3/4 Track Results"]
["Boys"]
[null,"1+1 Lap",null,null,"2+2 Lap",null,null,"1+1 Hurldes",null,null,"4x1 Relay"]
["School","Time","Pos","Score","Time","Pos","Score","Time","Pos","Score","Time","Pos","Score"]
["Christopher Pickering",27.33,1,{"$f":"C20*6","v":6},55.24,1,{"$f":"F20*6","v":6},31.96,4,{"$f":"I20*6","v":24},56.75,1,{"$f":"L20*6","v":6},null,42]
["Clifton Primary",28.79,6,{"$f":"C21*6","v":36},64.91,2,{"$f":"F21*6","v":12},30.17,2,{"$f":"I21*6","v":12},58.47,3,{"$f":"L21*6","v":18},null,78]
["Francis Aksew",29.62,8,48,64.78,3,18,31.19,3,18,62.38,9,54,null,138]
["Ings",29.14,7,42,66.239999999999995,5,30,32.6,6,36,59.26,5,30,null,138]
["Mersey Academy",30.73,9,54,55.03,4,24,34.19,8,48,61.11,7,42,null,168]
["Neasden",28.29,3,18,61.67,6,36,30.11,1,6,58.93,4,24,null,84]
["Sidmouth",28.65,5,30,63.88,9,54,33.450000000000003,7,42,57.51,2,12,null,138]
["St Charles",28.2,2,12,57.92,7,42,35.04,9,54,61.94,8,48,null,156]
["St Nicholas",35.17,10,60,65.459999999999994,8,48,39.4,10,60,65.78,10,60,null,228]
["Woodlands",28.41,4,24,55.52,10,60,32.19,5,30,59.38,6,36,null,150]

{"sheet":"Y56 Field","index":4,"n_rows":58,"n_cols":24,"rows_kept":58,"cut":false,"hidden":false,"merged":[[2,1,2,4],[2,5,2,8],[2,9,2,12],[2,13,2,16],[2,17,2,20],[32,1,32,4],[32,5,32,8],[32,9,32,12],[32,13,32,16],[32,17,32,20]]}
["Hull School Games SportsHall Athletics Qualifier 3 Results"]
["Year 5/6 Boys Field"]
[null,"Javelin",null,null,null,"Standing Long Jump",null,null,null,"Standing Triple Jump",null,null,null,"Chest Push",null,null,null,"Speed Bouce",{"$nulls":4},"Total School Score"]
["School","Attempt 1","Attempt 2","Average","Score","Attempt 1","Attempt 2","Average","Score","Attempt 1","Attempt 2","Average","Score","Attempt 1","Attempt 2","Average","Score","Attempt 1","Attempt 2","Average","Score"]
["Christopher Pickering",13.1,13.1,{"$f":"AVERAGE(B5:C5)","v":13.1},2,2.1,2.0499999999999998,{"$f":"AVERAGE(F5:G5)","v":2.0750000000000002},4,4.1100000000000003,5.16,{"$f":"AVERAGE(J5:K5)","v":4.6349999999999998},7,7.2,7.1,{"$f":"AVERAGE(N5:O5)","v":7.15},3,50,46,{"$f":"AVERAGE(R5:S5)","v":48},1,null,{"$f":"SUM(E5,I5,M5,Q5,U5)","v":17}]
["Christopher Pickering",11,10.7,{"$f":"AVERAGE(B6:C6)","v":10.85},9,1.65,1.7,{"$f":"AVERAGE(F6:G6)","v":1.6749999999999998},13,4.28,4.74,{"$f":"AVERAGE(J6:K6)","v":4.51},11,7,6.9,{"$f":"AVERAGE(N6:O6)","v":6.95},4,45,42,{"$f":"AVERAGE(R6:S6)","v":43.5},3,null,{"$f":"SUM(E6,I6,M6,Q6,U6)","v":40}]
["Christopher Pickering",8.7100000000000009,6.8,{"$f":"AVERAGE(B7:C7)","v":7.7550000000000008},19,1.5,1.65,{"$f":"AVERAGE(F7:G7)","v":1.575},14,4.28,4.42,{"$f":"AVERAGE(J7:K7)","v":4.3499999999999996},13,6,6.7,{"$f":"AVERAGE(N7:O7)","v":6.35},7,34,30,{"$f":"AVERAGE(R7:S7)","v":32},12,null,65,{"$f":"SUM(W5:W7)","v":122}]
["Clifton Primary",11,12.1,{"$f":"AVERAGE(B8:C8)","v":11.55},6,2,2,{"$f":"AVERAGE(F8:G8)","v":2},6,4.95,4.5,{"$f":"AVERAGE(J8:K8)","v":4.7249999999999996},6,6,6.5,{"$f":"AVERAGE(N8:O8)","v":6.25},8,36,32,{"$f":"AVERAGE(R8:S8)","v":34},11,null,37]
["Clifton Primary",9.3000000000000007,9.3000000000000007,{"$f":"AVERAGE(B9:C9)","v":9.3000000000000007},16,1.5,1.55,{"$f":"AVERAGE(F9:G9)","v":1.5249999999999999},15,4.26,4.3,{"$f":"AVERAGE(J9:K9)","v":4.2799999999999994},14,5.8,5.6,{"$f":"AVERAGE(N9:O9)","v":5.6999999999999993},12,27,20,{"$f":"AVERAGE(R9:S9)","v":23.5},15,null,72]
["Clifton Primary",4.8,6.45,{"$f":"AVERAGE(B10:C10)","v":5.625},22,1.6,1.1000000000000001,{"$f":"AVERAGE(F10:G10)","v":1.35},17,3.8,3.81,{"$f":"AVERAGE(J10:K10)","v":3.8049999999999997},18,4.9000000000000004,5.4,{"$f":"AVERAGE(N10:O10)","v":5.15},18,13,10,{"$f":"AVERAGE(R10:S10)","v":11.5},17,null,92,{"$f":"SUM(W8:W10)","v":201}]
["Ings Primary",11.95,11.12,{"$f":"AVERAGE(B11:C11)","v":11.535},7,1.95,2.15,{"$f":"AVERAGE(F11:G11)","v":2.0499999999999998},5,4.53,4.63,{"$f":"AVERAGE(J11:K11)","v":4.58},8,6.3,6.8,{"$f":"AVERAGE(N11:O11)","v":6.55},6,46,40,{"$f":"AVERAGE(R11:S11)","v":43},4,null,30]
["Ings Primary",9.5,10.1,{"$f":"AVERAGE(B12:C12)","v":9.8000000000000007},15,1.95,2,{"$f":"AVERAGE(F12:G12)","v":1.9750000000000001},7,3.98,4,{"$f":"AVERAGE(J12:K12)","v":3.99},15,5.3,6.6,{"$f":"AVERAGE(N12:O12)","v":5.9499999999999993},11,47,39,{"$f":"AVERAGE(R12:S12)","v":43},4,null,52]
["Ings Primary",7.3,11,{"$f":"AVERAGE(B13:C13)","v":9.15},17,1.4,2,{"$f":"AVERAGE(F13:G13)","v":1.7},12,3.3,3.4,{"$f":"AVERAGE(J13:K13)","v":3.3499999999999996},22,4.9000000000000004,5.2,{"$f":"AVERAGE(N13:O13)","v":5.0500000000000007},19,39,35,{"$f":"AVERAGE(R13:S13)","v":37},9,null,79,{"$f":"SUM(W11:W13)","v":161}]
["Neasden Primary",11.6,11.4,{"$f":"AVERAGE(B14:C14)","v":11.5},8,2.4,2.4500000000000002,{"$f":"AVERAGE(F14:G14)","v":2.4249999999999998},1,5.23,6.1,{"$f":"AVERAGE(J14:K14)","v":5.665},2,7.3,7.7,{"$f":"AVERAGE(N14:O14)","v":7.5},1,44,39,{"$f":"AVERAGE(R14:S14)","v":41.5},5,null,17]
["Neasden Primary",9.6999999999999993,10.8,{"$f":"AVERAGE(B15:C15)","v":10.25},12,1.65,1.8,{"$f":"AVERAGE(F15:G15)","v":1.7250000000000001},11,5.69,5.6,{"$f":"AVERAGE(J15:K15)","v":5.6449999999999996},3,6.4,7.2,{"$f":"AVERAGE(N15:O15)","v":6.8000000000000007},5,52,29,{"$f":"AVERAGE(R15:S15)","v":40.5},6,null,37]
["Neasden Primary",8.4,11.92,{"$f":"AVERAGE(B16:C16)","v":10.16},13,1.7,1.7,{"$f":"AVERAGE(F16:G16)","v":1.7},12,4.51,4.54,{"$f":"AVERAGE(J16:K16)","v":4.5250000000000004},10,6.1,6.3,{"$f":"AVERAGE(N16:O16)","v":6.1999999999999993},9,43,38,{"$f":"AVERAGE(R16:S16)","v":40.5},6,null,50,{"$f":"SUM(W14:W16)","v":104}]
["Sidmouth Primary",12.7,14.6,{"$f":"AVERAGE(B17:C17)","v":13.649999999999999},1,2.2000000000000002,2.15,{"$f":"AVERAGE(F17:G17)","v":2.1749999999999998},2,5.04,5.7,{"$f":"AVERAGE(J17:K17)","v":5.37},4,7,6.6,{"$f":"AVERAGE(N17:O17)","v":6.8},5,47,37,{"$f":"AVERAGE(R17:S17)","v":42},5,null,17]
["Sidmouth Primary",10.48,9.83,{"$f":"AVERAGE(B18:C18)","v":10.155000000000001},13,2.1,2.2000000000000002,{"$f":"AVERAGE(F18:G18)","v":2.1500000000000004},3,5.0999999999999996,4.62,{"$f":"AVERAGE(J18:K18)","v":4.8599999999999994},5,5.8,5.5,{"$f":"AVERAGE(N18:O18)","v":5.65},14,43,37,{"$f":"AVERAGE(R18:S18)","v":40},7,null,42]
["Sidmouth Primary",7.5,7.2,{"$f":"AVERAGE(B19:C19)","v":7.35},20,1.9,2,{"$f":"AVERAGE(F19:G19)","v":1.95},8,3.79,4.03,{"$f":"AVERAGE(J19:K19)","v":3.91},16,5.2,5.8,{"$f":"AVERAGE(N19:O19)","v":5.5},16,42,32,{"$f":"AVERAGE(R19:S19)","v":37},9,null,69,{"$f":"SUM(W17:W19)","v":128}]
["St Charles Primary",12.51,11.96,{"$f":"AVERAGE(B20:C20)","v":12.234999999999999},5,2,2,{"$f":"AVERAGE(F20:G20)","v":2},6,4.18,4.84,{"$f":"AVERAGE(J20:K20)","v":4.51},11,5.4,5.96,{"$f":"AVERAGE(N20:O20)","v":5.68},13,49,41,{"$f":"AVERAGE(R20:S20)","v":45},2,null,37]
["St Charles Primary",9.4,10.199999999999999,{"$f":"AVERAGE(B21:C21)","v":9.8000000000000007},15,1.55,1.6,{"$f":"AVERAGE(F21:G21)","v":1.5750000000000002},14,4.5,4.45,{"$f":"AVERAGE(J21:K21)","v":4.4749999999999996},12,5.6,5.5,{"$f":"AVERAGE(N21:O21)","v":5.55},15,28,25,{"$f":"AVERAGE(R21:S21)","v":26.5},13,null,69]
["St Charles Primary",11.1,5.8,{"$f":"AVERAGE(B22:C22)","v":8.4499999999999993},18,1.4,1.3,{"$f":"AVERAGE(F22:G22)","v":1.35},17,4,3.75,{"$f":"AVERAGE(J22:K22)","v":3.875},17,4.7,4.9000000000000004,{"$f":"AVERAGE(N22:O22)","v":4.8000000000000007},21,27,24,{"$f":"AVERAGE(R22:S22)","v":25.5},14,null,87,{"$f":"SUM(W20:W22)","v":193}]
["St Nicholas Primary",11.19,10.119999999999999,{"$f":"AVERAGE(B23:C23)","v":10.654999999999999},11,1.75,1.8,{"$f":"AVERAGE(F23:G23)","v":1.7749999999999999},9,6.65,5.2,{"$f":"AVERAGE(J23:K23)","v":5.9250000000000007},1,6.1,5.9,{"$f":"AVERAGE(N23:O23)","v":6},10,29,24,{"$f":"AVERAGE(R23:S23)","v":26.5},13,null,44]
["St Nicholas Primary",9.8000000000000007,9.9,{"$f":"AVERAGE(B24:C24)","v":9.8500000000000014},14,1.65,1.8,{"$f":"AVERAGE(F24:G24)","v":1.7250000000000001},11,3.71,3.8,{"$f":"AVERAGE(J24:K24)","v":3.7549999999999999},19,5.0999999999999996,4.5999999999999996,{"$f":"AVERAGE(N24:O24)","v":4.8499999999999996},20,32,20,{"$f":"AVERAGE(R24:S24)","v":26},14,null,78]
["St Nicholas Primary",9.6999999999999993,4.0999999999999996,{"$f":"AVERAGE(B25:C25)","v":6.8999999999999995},21,1.4,1.55,{"$f":"AVERAGE(F25:G25)","v":1.4750000000000001},16,3.7,3.6,{"$f":"AVERAGE(J25:K25)","v":3.6500000000000004},20,4.5999999999999996,4.3,{"$f":"AVERAGE(N25:O25)","v":4.4499999999999993},23,23,12,{"$f":"AVERAGE(R25:S25)","v":17.5},16,null,96,{"$f":"SUM(W23:W25)","v":218}]
["Woodlands Primary",10,15.5,{"$f":"AVERAGE(B26:C26)","v":12.75},3,1.75,1.75,{"$f":"AVERAGE(F26:G26)","v":1.75},10,4.42,4.67,{"$f":"AVERAGE(J26:K26)","v":4.5449999999999999},9,7.2,7.2,{"$f":"AVERAGE(N26:O26)","v":7.2},2,43,33,{"$f":"AVERAGE(R26:S26)","v":38},8,null,32]
["Woodlands Primary",11.1,13.6,{"$f":"AVERAGE(B27:C27)","v":12.35},4,1.65,1.8,{"$f":"AVERAGE(F27:G27)","v":1.7250000000000001},11,3.5,3.72,{"$f":"AVERAGE(J27:K27)","v":3.6100000000000003},21,5.2,5.4,{"$f":"AVERAGE(N27:O27)","v":5.3000000000000007},17,43,29,{"$f":"AVERAGE(R27:S27)","v":36},10,null,63]
["Woodlands Primary",10.38,11.06,{"$f":"AVERAGE(B28:C28)","v":10.72},10,1.6,1.45,{"$f":"AVERAGE(F28:G28)","v":1.5249999999999999},15,2.7,3,{"$f":"AVERAGE(J28:K28)","v":2.85},23,5,4.5,{"$f":"AVERAGE(N28:O28)","v":4.75},22,34,29,{"$f":"AVERAGE(R28:S28)","v":31.5},12,null,82,{"$f":"SUM(W26:W28)","v":177}]
[]
[]
["Hull School Games SportsHall Athletics Qualifier 3 Results"]
["Year 5/6 Girls Field"]
[null,"Javelin",null,null,null,"Standing Long Jump",null,null,null,"Standing Triple Jump",null,null,null,"Chest Push",null,null,null,"Speed Bouce",{"$nulls":4},"School Total Score"]
["School","Attempt 1","Attempt 2","Average","Score","Attempt 1","Attempt 2","Average","Score","Attempt 1","Attempt 2","Average","Score","Attempt 1","Attempt 2","Average","Score","Attempt 1","Attempt 2","Average","Score"]
["Christopher Pickering",13.04,12.1,{"$f":"AVERAGE(B35:C35)","v":12.57},2,1.8,1.9,{"$f":"AVERAGE(F35:G35)","v":1.85},4,4.01,4.33,{"$f":"AVERAGE(J35:K35)","v":4.17},8,5.9,5.4,{"$f":"AVERAGE(N35:O35)","v":5.65},6,50,50,{"$f":"AVERAGE(R35:S35)","v":50},1,null,{"$f":"SUM(E35,I35,M35,Q35,U35)","v":21}]
["Christopher Pickering",9,10,{"$f":"AVERAGE(B36:C36)","v":9.5},5,1.72,1.8,{"$f":"AVERAGE(F36:G36)","v":1.76},5,3.44,4.32,{"$f":"AVERAGE(J36:K36)","v":3.88},14,4.7,5.2,{"$f":"AVERAGE(N36:O36)","v":4.95},11,48,48,{"$f":"AVERAGE(R36:S36)","v":48},2,null,{"$f":"SUM(E36,I36,M36,Q36,U36)","v":37}]
["Christopher Pickering",7.5,7.9,{"$f":"AVERAGE(B37:C37)","v":7.7},12,1.64,1.72,{"$f":"AVERAGE(F37:G37)","v":1.68},9,3.52,3.82,{"$f":"AVERAGE(J37:K37)","v":3.67},17,4.3,4.7,{"$f":"AVERAGE(N37:O37)","v":4.5},14,46,46,{"$f":"AVERAGE(R37:S37)","v":46},3,null,55,{"$f":"SUM(W35:W37)","v":113}]
["Clifton Primary",9.82,10.5,{"$f":"AVERAGE(B38:C38)","v":10.16},4,1.8,1.9,{"$f":"AVERAGE(F38:G38)","v":1.85},4,4.13,4.74,{"$f":"AVERAGE(J38:K38)","v":4.4350000000000005},5,4.3,4.5999999999999996,{"$f":"AVERAGE(N38:O38)","v":4.4499999999999993},15,37,28,{"$f":"AVERAGE(R38:S38)","v":32.5},10,null,38]
["Clifton Primary",6.4,4.4000000000000004,{"$f":"AVERAGE(B39:C39)","v":5.4},17,1.8,1.7,{"$f":"AVERAGE(F39:G39)","v":1.75},6,4.3499999999999996,4.2,{"$f":"AVERAGE(J39:K39)","v":4.2750000000000004},7,3.9,4.4000000000000004,{"$f":"AVERAGE(N39:O39)","v":4.1500000000000004},16,30,28,{"$f":"AVERAGE(R39:S39)","v":29},13,null,59]
["Clifton Primary",4.9000000000000004,5.7,{"$f":"AVERAGE(B40:C40)","v":5.3000000000000007},18,1.5,1.3,{"$f":"AVERAGE(F40:G40)","v":1.4},19,3.8,4.5,{"$f":"AVERAGE(J40:K40)","v":4.1500000000000004},9,3.1,2.9,{"$f":"AVERAGE(N40:O40)","v":3},18,15,16,{"$f":"AVERAGE(R40:S40)","v":15.5},19,null,83,{"$f":"SUM(W38:W40)","v":180}]
["Ings Primary",9.4,7.55,{"$f":"AVERAGE(B41:C41)","v":8.4749999999999996},7,1.95,1.94,{"$f":"AVERAGE(F41:G41)","v":1.9449999999999998},2,4.79,5,{"$f":"AVERAGE(J41:K41)","v":4.8949999999999996},2,6.6,5.9,{"$f":"AVERAGE(N41:O41)","v":6.25},3,42,32,{"$f":"AVERAGE(R41:S41)","v":37},8,null,22]
["Ings Primary",4.5,5.7,{"$f":"AVERAGE(B42:C42)","v":5.0999999999999996},19,1.88,1.92,{"$f":"AVERAGE(F42:G42)","v":1.9},3,3.7,4.0999999999999996,{"$f":"AVERAGE(J42:K42)","v":3.9},13,5.5,5.4,{"$f":"AVERAGE(N42:O42)","v":5.45},8,41,27,{"$f":"AVERAGE(R42:S42)","v":34},9,null,52]
["Ings Primary",4.0999999999999996,4.4000000000000004,{"$f":"AVERAGE(B43:C43)","v":4.25},22,1.7,1.64,{"$f":"AVERAGE(F43:G43)","v":1.67},10,3.05,2.9,{"$f":"AVERAGE(J43:K43)","v":2.9749999999999996},20,5.0999999999999996,4.4000000000000004,{"$f":"AVERAGE(N43:O43)","v":4.75},12,29,18,{"$f":"AVERAGE(R43:S43)","v":23.5},17,null,81,{"$f":"SUM(W41:W43)","v":155}]
["Neasden Primary",9.4499999999999993,6.73,{"$f":"AVERAGE(B44:C44)","v":8.09},9,1.65,1.8,{"$f":"AVERAGE(F44:G44)","v":1.7250000000000001},7,4.3099999999999996,3.91,{"$f":"AVERAGE(J44:K44)","v":4.1099999999999994},10,7.2,6.2,{"$f":"AVERAGE(N44:O44)","v":6.7},1,40,38,{"$f":"AVERAGE(R44:S44)","v":39},6,null,33]
["Neasden Primary",9.1999999999999993,5,{"$f":"AVERAGE(B45:C45)","v":7.1},14,1.66,1.7,{"$f":"AVERAGE(F45:G45)","v":1.68},9,3.65,4.0999999999999996,{"$f":"AVERAGE(J45:K45)","v":3.875},14,5.4,5.8,{"$f":"AVERAGE(N45:O45)","v":5.6},7,37,29,{"$f":"AVERAGE(R45:S45)","v":33},10,null,54]
["Neasden Primary",3.5,4.9000000000000004,{"$f":"AVERAGE(B46:C46)","v":4.2},23,1.5,1.55,{"$f":"AVERAGE(F46:G46)","v":1.5249999999999999},14,3.44,3.64,{"$f":"AVERAGE(J46:K46)","v":3.54},19,5.0999999999999996,5.7,{"$f":"AVERAGE(N46:O46)","v":5.4},9,30,16,{"$f":"AVERAGE(R46:S46)","v":23},18,null,83,{"$f":"SUM(W44:W46)","v":170}]
["Sidmouth Primary",8,7.5,{"$f":"AVERAGE(B47:C47)","v":7.75},11,2,2.1,{"$f":"AVERAGE(F47:G47)","v":2.0499999999999998},1,4.79,5.0999999999999996,{"$f":"AVERAGE(J47:K47)","v":4.9450000000000003},1,6.5,6.6,{"$f":"AVERAGE(N47:O47)","v":6.55},2,47,36,{"$f":"AVERAGE(R47:S47)","v":41.5},4,null,19]
["Sidmouth Primary",4.4000000000000004,4.5,{"$f":"AVERAGE(B48:C48)","v":4.45},20,1.6,1.6,{"$f":"AVERAGE(F48:G48)","v":1.6},11,4.63,4.66,{"$f":"AVERAGE(J48:K48)","v":4.6449999999999996},3,5.9,6.3,{"$f":"AVERAGE(N48:O48)","v":6.1},4,32,25,{"$f":"AVERAGE(R48:S48)","v":28.5},13,null,51]
["Sidmouth Primary",4.2,4.4000000000000004,{"$f":"AVERAGE(B49:C49)","v":4.3000000000000007},21,1.5,1.45,{"$f":"AVERAGE(F49:G49)","v":1.4750000000000001},17,3.74,4.0999999999999996,{"$f":"AVERAGE(J49:K49)","v":3.92},12,4.7,4.2,{"$f":"AVERAGE(N49:O49)","v":4.45},15,31,25,{"$f":"AVERAGE(R49:S49)","v":28},14,null,79,{"$f":"SUM(W47:W49)","v":149}]
["St Charles Primary",9.1999999999999993,8.5,{"$f":"AVERAGE(B50:C50)","v":8.85},6,1.6,1.9,{"$f":"AVERAGE(F50:G50)","v":1.75},6,4.4000000000000004,4.32,{"$f":"AVERAGE(J50:K50)","v":4.3600000000000003},6,6.6,6.5,{"$f":"AVERAGE(N50:O50)","v":6.55},2,39,36,{"$f":"AVERAGE(R50:S50)","v":37.5},7,null,27]
["St Charles Primary",7.4,8.2100000000000009,{"$f":"AVERAGE(B51:C51)","v":7.8050000000000006},10,1.4,1.55,{"$f":"AVERAGE(F51:G51)","v":1.4750000000000001},17,4,4.29,{"$f":"AVERAGE(J51:K51)","v":4.1449999999999996},9,5.3,5.5,{"$f":"AVERAGE(N51:O51)","v":5.4},9,35,28,{"$f":"AVERAGE(R51:S51)","v":31.5},11,null,56]
["St Charles Primary",0.7,7.1,{"$f":"AVERAGE(B52:C52)","v":3.9},24,1.3,1.5,{"$f":"AVERAGE(F52:G52)","v":1.4},19,3.8,4.3,{"$f":"AVERAGE(J52:K52)","v":4.05},11,5.2,4.8,{"$f":"AVERAGE(N52:O52)","v":5},10,32,29,{"$f":"AVERAGE(R52:S52)","v":30.5},12,null,76,{"$f":"SUM(W50:W52)","v":159}]
["St Nicholas Primary",10.1,6.5,{"$f":"AVERAGE(B53:C53)","v":8.3000000000000007},8,1.6,1.5,{"$f":"AVERAGE(F53:G53)","v":1.55},13,4.0999999999999996,4,{"$f":"AVERAGE(J53:K53)","v":4.05},11,5.4,5.5,{"$f":"AVERAGE(N53:O53)","v":5.45},8,32,21,{"$f":"AVERAGE(R53:S53)","v":26.5},15,null,55]
["St Nicholas Primary",6.61,7.12,{"$f":"AVERAGE(B54:C54)","v":6.8650000000000002},15,1.45,1.57,{"$f":"AVERAGE(F54:G54)","v":1.51},15,4.04,3.5,{"$f":"AVERAGE(J54:K54)","v":3.77},16,4.2,4.7,{"$f":"AVERAGE(N54:O54)","v":4.45},15,29,22,{"$f":"AVERAGE(R54:S54)","v":25.5},16,null,77]
["St Nicholas Primary",5.8,5.7,{"$f":"AVERAGE(B55:C55)","v":5.75},16,1.5,1.4,{"$f":"AVERAGE(F55:G55)","v":1.45},18,3.6,3.72,{"$f":"AVERAGE(J55:K55)","v":3.66},18,4.0999999999999996,3.9,{"$f":"AVERAGE(N55:O55)","v":4},17,22,0,{"$f":"AVERAGE(R55:S55)","v":11},20,null,89,{"$f":"SUM(W53:W55)","v":221}]
["Woodlands Primary",13.5,13,{"$f":"AVERAGE(B56:C56)","v":13.25},1,1.7,1.7,{"$f":"AVERAGE(F56:G56)","v":1.7},8,4.32,4.63,{"$f":"AVERAGE(J56:K56)","v":4.4749999999999996},4,5.9,5.8,{"$f":"AVERAGE(N56:O56)","v":5.85},5,45,35,{"$f":"AVERAGE(R56:S56)","v":40},5,null,23]
["Woodlands Primary",10.49,10.51,{"$f":"AVERAGE(B57:C57)","v":10.5},3,1.6,1.55,{"$f":"AVERAGE(F57:G57)","v":1.5750000000000002},12,4,3.7,{"$f":"AVERAGE(J57:K57)","v":3.85},15,5.9,5.3,{"$f":"AVERAGE(N57:O57)","v":5.6},7,42,34,{"$f":"AVERAGE(R57:S57)","v":38},7,null,44]
["Woodlands Primary",6.9,8,{"$f":"AVERAGE(B58:C58)","v":7.45},13,1.45,1.55,{"$f":"AVERAGE(F58:G58)","v":1.5},16,3.09,2.39,{"$f":"AVERAGE(J58:K58)","v":2.74},21,3.9,5.2,{"$f":"AVERAGE(N58:O58)","v":4.55},13,33,25,{"$f":"AVERAGE(R58:S58)","v":29},13,null,76,{"$f":"SUM(W56:W58)","v":143}]

{"sheet":"Y56 Track","index":5,"n_rows":25,"n_cols":15,"rows_kept":25,"cut":false,"hidden":false,"merged":[[2,1,2,3],[2,4,2,6],[2,7,2,9],[2,10,2,12],[15,1,15,3],[15,4,15,6],[15,7,15,9],[15,10,15,12]]}
["Year 5/6 Track Results"]
["Girls"]
[null,"1+1 Lap",null,null,"2+2 Lap",null,null,"6 Lap Paarlauf",null,null,"4x1 Relay",null,null,null,"School Total Score"]
["School","Time","Pos","Score","Time","Pos","Score","Time","Pos","Score","Time","Pos","Score"]
["Christopher Pickering",27.48,1,{"$f":"C5*6","v":6},54.25,1,{"$f":"F5*6","v":6},85.73,2,{"$f":"I5*6","v":12},69.290000000000006,8,{"$f":"L5*6","v":48},null,{"$f":"SUM(D5,G5,J5,M5)","v":72}]
["Clifton Primary",28.6,3,{"$f":"C6*6","v":18},58.2,5,{"$f":"F6*6","v":30},89.76,4,{"$f":"I6*6","v":24},57.02,3,{"$f":"L6*6","v":18},null,{"$f":"SUM(D6,G6,J6,M6)","v":90}]
["Ings",28.18,2,12,57.21,4,24,83.03,1,6,55.92,1,6,null,48]
["Neasden",30.45,7,42,57.21,4,24,89.76,4,24,60.71,6,36,null,126]
["Sidmouth",28.71,4,24,56.25,2,12,87.61,3,18,59.73,5,30,null,84]
["St Charles",30.05,5,30,55.76,6,36,91.59,6,36,56.91,2,12,null,114]
["St Nicholas",28.71,4,24,65.11,3,18,101.48,7,42,58.27,4,24,null,{"$f":"SUM(D11,G11,J11,M11)","v":108}]
["Woodlands",30.32,6,36,56.25,3,18,90.11,5,30,61.26,7,42,null,126]
[]
["Year 5/6 Track Results"]
["Boys"]
[null,"1+1 Lap",null,null,"2+2 Lap",null,null,"6 Lap Paarlauf",null,null,"4x1 Relay"]
["School","Time","Pos","Score","Time","Pos","Score","Time","Pos","Score","Time","Pos","Score"]
["Christopher Pickering",25.8,3,{"$f":"C18*6","v":18},55.51,6,{"$f":"F18*6","v":36},84.78,2,{"$f":"I18*6","v":12},53.8,3,{"$f":"L18*6","v":18},null,84]
["Clifton Primary",27.76,5,{"$f":"C19*6","v":30},61.2,8,{"$f":"F19*6","v":48},107.17,8,{"$f":"I19*6","v":48},57.38,7,{"$f":"L19*6","v":42},null,168]
["Ings",28.04,6,36,52.6,2,12,85.52,3,18,55.01,4,24,null,90]
["Neasden",25.8,3,18,51.78,1,6,86.21,4,24,52.15,1,6,null,54]
["Sidmouth",25,1,6,52.9,3,18,81.89,1,6,52.82,2,12,null,42]
["St Charles",25.57,2,12,54.97,4,24,90.77,5,30,55.1,5,30,null,96]
["St Nicholas",27.52,4,24,61,7,42,94.06,6,36,65.73,8,48,null,{"$f":"SUM(D24,G24,J24,M24)","v":150}]
["Woodlands",31.66,7,42,55.37,5,30,105.59,7,42,56.44,6,36,null,150]

{"sheet":"Y56Girls Field","index":6,"n_rows":28,"n_cols":24,"rows_kept":28,"cut":false,"hidden":true,"merged":[[2,1,2,4],[2,5,2,8],[2,9,2,12],[2,13,2,16],[2,17,2,20]]}
["Hull School Games SportsHall Athletics Qualifier 3 Results"]
["Year 5/6 Girls Field"]
[null,"Javelin",null,null,null,"Standing Long Jump",null,null,null,"Standing Triple Jump",null,null,null,"Chest Push",null,null,null,"Speed Bouce",{"$nulls":4},"School Total Score"]
["School","Attempt 1","Attempt 2","Average","Score","Attempt 1","Attempt 2","Average","Score","Attempt 1","Attempt 2","Average","Score","Attempt 1","Attempt 2","Average","Score","Attempt 1","Attempt 2","Average","Score"]
["Christopher Pickering",13.04,12.1,{"$f":"AVERAGE(B5:C5)","v":12.57},2,1.8,1.9,{"$f":"AVERAGE(F5:G5)","v":1.85},4,4.01,4.33,{"$f":"AVERAGE(J5:K5)","v":4.17},8,5.9,5.4,{"$f":"AVERAGE(N5:O5)","v":5.65},6,50,50,{"$f":"AVERAGE(R5:S5)","v":50},1,null,{"$f":"SUM(E5,I5,M5,Q5,U5)","v":21}]
["Christopher Pickering",9,10,{"$f":"AVERAGE(B6:C6)","v":9.5},5,1.72,1.8,{"$f":"AVERAGE(F6:G6)","v":1.76},5,3.44,4.32,{"$f":"AVERAGE(J6:K6)","v":3.88},14,4.7,5.2,{"$f":"AVERAGE(N6:O6)","v":4.95},11,48,48,{"$f":"AVERAGE(R6:S6)","v":48},2,null,{"$f":"SUM(E6,I6,M6,Q6,U6)","v":37}]
["Christopher Pickering",7.5,7.9,{"$f":"AVERAGE(B7:C7)","v":7.7},12,1.64,1.72,{"$f":"AVERAGE(F7:G7)","v":1.68},9,3.52,3.82,{"$f":"AVERAGE(J7:K7)","v":3.67},17,4.3,4.7,{"$f":"AVERAGE(N7:O7)","v":4.5},14,46,46,{"$f":"AVERAGE(R7:S7)","v":46},3,null,55,{"$f":"SUM(W5:W7)","v":113}]
["Clifton Primary",9.82,10.5,{"$f":"AVERAGE(B8:C8)","v":10.16},4,1.8,1.9,{"$f":"AVERAGE(F8:G8)","v":1.85},4,4.13,4.74,{"$f":"AVERAGE(J8:K8)","v":4.4350000000000005},5,4.3,4.5999999999999996,{"$f":"AVERAGE(N8:O8)","v":4.4499999999999993},15,37,28,{"$f":"AVERAGE(R8:S8)","v":32.5},10,null,38]
["Clifton Primary",6.4,4.4000000000000004,{"$f":"AVERAGE(B9:C9)","v":5.4},17,1.8,1.7,{"$f":"AVERAGE(F9:G9)","v":1.75},6,4.3499999999999996,4.2,{"$f":"AVERAGE(J9:K9)","v":4.2750000000000004},7,3.9,4.4000000000000004,{"$f":"AVERAGE(N9:O9)","v":4.1500000000000004},16,30,28,{"$f":"AVERAGE(R9:S9)","v":29},13,null,59]
["Clifton Primary",4.9000000000000004,5.7,{"$f":"AVERAGE(B10:C10)","v":5.3000000000000007},18,1.5,1.3,{"$f":"AVERAGE(F10:G10)","v":1.4},19,3.8,4.5,{"$f":"AVERAGE(J10:K10)","v":4.1500000000000004},9,3.1,2.9,{"$f":"AVERAGE(N10:O10)","v":3},18,15,16,{"$f":"AVERAGE(R10:S10)","v":15.5},19,null,83,{"$f":"SUM(W8:W10)","v":180}]
["Ings Primary",9.4,7.55,{"$f":"AVERAGE(B11:C11)","v":8.4749999999999996},7,1.95,1.94,{"$f":"AVERAGE(F11:G11)","v":1.9449999999999998},2,4.79,5,{"$f":"AVERAGE(J11:K11)","v":4.8949999999999996},2,6.6,5.9,{"$f":"AVERAGE(N11:O11)","v":6.25},3,42,32,{"$f":"AVERAGE(R11:S11)","v":37},8,null,22]
["Ings Primary",4.5,5.7,{"$f":"AVERAGE(B12:C12)","v":5.0999999999999996},19,1.88,1.92,{"$f":"AVERAGE(F12:G12)","v":1.9},3,3.7,4.0999999999999996,{"$f":"AVERAGE(J12:K12)","v":3.9},13,5.5,5.4,{"$f":"AVERAGE(N12:O12)","v":5.45},8,41,27,{"$f":"AVERAGE(R12:S12)","v":34},9,null,52]
["Ings Primary",4.0999999999999996,4.4000000000000004,{"$f":"AVERAGE(B13:C13)","v":4.25},22,1.7,1.64,{"$f":"AVERAGE(F13:G13)","v":1.67},10,3.05,2.9,{"$f":"AVERAGE(J13:K13)","v":2.9749999999999996},20,5.0999999999999996,4.4000000000000004,{"$f":"AVERAGE(N13:O13)","v":4.75},12,29,18,{"$f":"AVERAGE(R13:S13)","v":23.5},17,null,81,{"$f":"SUM(W11:W13)","v":155}]
["Neasden Primary",9.4499999999999993,6.73,{"$f":"AVERAGE(B14:C14)","v":8.09},9,1.65,1.8,{"$f":"AVERAGE(F14:G14)","v":1.7250000000000001},7,4.3099999999999996,3.91,{"$f":"AVERAGE(J14:K14)","v":4.1099999999999994},10,7.2,6.2,{"$f":"AVERAGE(N14:O14)","v":6.7},1,40,38,{"$f":"AVERAGE(R14:S14)","v":39},6,null,33]
["Neasden Primary",9.1999999999999993,5,{"$f":"AVERAGE(B15:C15)","v":7.1},14,1.66,1.7,{"$f":"AVERAGE(F15:G15)","v":1.68},9,3.65,4.0999999999999996,{"$f":"AVERAGE(J15:K15)","v":3.875},14,5.4,5.8,{"$f":"AVERAGE(N15:O15)","v":5.6},7,37,29,{"$f":"AVERAGE(R15:S15)","v":33},10,null,54]
["Neasden Primary",3.5,4.9000000000000004,{"$f":"AVERAGE(B16:C16)","v":4.2},23,1.5,1.55,{"$f":"AVERAGE(F16:G16)","v":1.5249999999999999},14,3.44,3.64,{"$f":"AVERAGE(J16:K16)","v":3.54},19,5.0999999999999996,5.7,{"$f":"AVERAGE(N16:O16)","v":5.4},9,30,16,{"$f":"AVERAGE(R16:S16)","v":23},18,null,83,{"$f":"SUM(W14:W16)","v":170}]
["Sidmouth Primary",8,7.5,{"$f":"AVERAGE(B17:C17)","v":7.75},11,2,2.1,{"$f":"AVERAGE(F17:G17)","v":2.0499999999999998},1,4.79,5.0999999999999996,{"$f":"AVERAGE(J17:K17)","v":4.9450000000000003},1,6.5,6.6,{"$f":"AVERAGE(N17:O17)","v":6.55},2,47,36,{"$f":"AVERAGE(R17:S17)","v":41.5},4,null,19]
["Sidmouth Primary",4.4000000000000004,4.5,{"$f":"AVERAGE(B18:C18)","v":4.45},20,1.6,1.6,{"$f":"AVERAGE(F18:G18)","v":1.6},11,4.63,4.66,{"$f":"AVERAGE(J18:K18)","v":4.6449999999999996},3,5.9,6.3,{"$f":"AVERAGE(N18:O18)","v":6.1},4,32,25,{"$f":"AVERAGE(R18:S18)","v":28.5},13,null,51]
["Sidmouth Primary",4.2,4.4000000000000004,{"$f":"AVERAGE(B19:C19)","v":4.3000000000000007},21,1.5,1.45,{"$f":"AVERAGE(F19:G19)","v":1.4750000000000001},17,3.74,4.0999999999999996,{"$f":"AVERAGE(J19:K19)","v":3.92},12,4.7,4.2,{"$f":"AVERAGE(N19:O19)","v":4.45},15,31,25,{"$f":"AVERAGE(R19:S19)","v":28},14,null,79,{"$f":"SUM(W17:W19)","v":149}]
["St Charles Primary",9.1999999999999993,8.5,{"$f":"AVERAGE(B20:C20)","v":8.85},6,1.6,1.9,{"$f":"AVERAGE(F20:G20)","v":1.75},6,4.4000000000000004,4.32,{"$f":"AVERAGE(J20:K20)","v":4.3600000000000003},6,6.6,6.5,{"$f":"AVERAGE(N20:O20)","v":6.55},2,39,36,{"$f":"AVERAGE(R20:S20)","v":37.5},7,null,27]
["St Charles Primary",7.4,8.2100000000000009,{"$f":"AVERAGE(B21:C21)","v":7.8050000000000006},10,1.4,1.55,{"$f":"AVERAGE(F21:G21)","v":1.4750000000000001},17,4,4.29,{"$f":"AVERAGE(J21:K21)","v":4.1449999999999996},9,5.3,5.5,{"$f":"AVERAGE(N21:O21)","v":5.4},9,35,28,{"$f":"AVERAGE(R21:S21)","v":31.5},11,null,56]
["St Charles Primary",0.7,7.1,{"$f":"AVERAGE(B22:C22)","v":3.9},24,1.3,1.5,{"$f":"AVERAGE(F22:G22)","v":1.4},19,3.8,4.3,{"$f":"AVERAGE(J22:K22)","v":4.05},11,5.2,4.8,{"$f":"AVERAGE(N22:O22)","v":5},10,32,29,{"$f":"AVERAGE(R22:S22)","v":30.5},12,null,76,{"$f":"SUM(W20:W22)","v":159}]
["St Nicholas Primary",10.1,6.5,{"$f":"AVERAGE(B23:C23)","v":8.3000000000000007},8,1.6,1.5,{"$f":"AVERAGE(F23:G23)","v":1.55},13,4.0999999999999996,4,{"$f":"AVERAGE(J23:K23)","v":4.05},11,5.4,5.5,{"$f":"AVERAGE(N23:O23)","v":5.45},8,32,21,{"$f":"AVERAGE(R23:S23)","v":26.5},15,null,55]
["St Nicholas Primary",6.61,7.12,{"$f":"AVERAGE(B24:C24)","v":6.8650000000000002},15,1.45,1.57,{"$f":"AVERAGE(F24:G24)","v":1.51},15,4.04,3.5,{"$f":"AVERAGE(J24:K24)","v":3.77},16,4.2,4.7,{"$f":"AVERAGE(N24:O24)","v":4.45},15,29,22,{"$f":"AVERAGE(R24:S24)","v":25.5},16,null,77]
["St Nicholas Primary",5.8,5.7,{"$f":"AVERAGE(B25:C25)","v":5.75},16,1.5,1.4,{"$f":"AVERAGE(F25:G25)","v":1.45},18,3.6,3.72,{"$f":"AVERAGE(J25:K25)","v":3.66},18,4.0999999999999996,3.9,{"$f":"AVERAGE(N25:O25)","v":4},17,22,0,{"$f":"AVERAGE(R25:S25)","v":11},20,null,89,{"$f":"SUM(W23:W25)","v":221}]
["Woodlands Primary",13.5,13,{"$f":"AVERAGE(B26:C26)","v":13.25},1,1.7,1.7,{"$f":"AVERAGE(F26:G26)","v":1.7},8,4.32,4.63,{"$f":"AVERAGE(J26:K26)","v":4.4749999999999996},4,5.9,5.8,{"$f":"AVERAGE(N26:O26)","v":5.85},5,45,35,{"$f":"AVERAGE(R26:S26)","v":40},5,null,23]
["Woodlands Primary",10.49,10.51,{"$f":"AVERAGE(B27:C27)","v":10.5},3,1.6,1.55,{"$f":"AVERAGE(F27:G27)","v":1.5750000000000002},12,4,3.7,{"$f":"AVERAGE(J27:K27)","v":3.85},15,5.9,5.3,{"$f":"AVERAGE(N27:O27)","v":5.6},7,42,34,{"$f":"AVERAGE(R27:S27)","v":38},7,null,44]
["Woodlands Primary",6.9,8,{"$f":"AVERAGE(B28:C28)","v":7.45},13,1.45,1.55,{"$f":"AVERAGE(F28:G28)","v":1.5},16,3.09,2.39,{"$f":"AVERAGE(J28:K28)","v":2.74},21,3.9,5.2,{"$f":"AVERAGE(N28:O28)","v":4.55},13,33,25,{"$f":"AVERAGE(R28:S28)","v":29},13,null,76,{"$f":"SUM(W26:W28)","v":143}]